BEGIN:VCALENDAR
VERSION:2.0
PRODID:-//Nevada Health Link - Official Website - ECPv6.15.14//NONSGML v1.0//EN
CALSCALE:GREGORIAN
METHOD:PUBLISH
X-WR-CALNAME:Nevada Health Link - Official Website
X-ORIGINAL-URL:https://nevadahealthlink.com
X-WR-CALDESC:Events for Nevada Health Link - Official Website
REFRESH-INTERVAL;VALUE=DURATION:PT1H
X-Robots-Tag:noindex
X-PUBLISHED-TTL:PT1H
BEGIN:VTIMEZONE
TZID:America/Los_Angeles
BEGIN:DAYLIGHT
TZOFFSETFROM:-0800
TZOFFSETTO:-0700
TZNAME:PDT
DTSTART:20220313T100000
END:DAYLIGHT
BEGIN:STANDARD
TZOFFSETFROM:-0700
TZOFFSETTO:-0800
TZNAME:PST
DTSTART:20221106T090000
END:STANDARD
BEGIN:DAYLIGHT
TZOFFSETFROM:-0800
TZOFFSETTO:-0700
TZNAME:PDT
DTSTART:20230312T100000
END:DAYLIGHT
BEGIN:STANDARD
TZOFFSETFROM:-0700
TZOFFSETTO:-0800
TZNAME:PST
DTSTART:20231105T090000
END:STANDARD
BEGIN:DAYLIGHT
TZOFFSETFROM:-0800
TZOFFSETTO:-0700
TZNAME:PDT
DTSTART:20240310T100000
END:DAYLIGHT
BEGIN:STANDARD
TZOFFSETFROM:-0700
TZOFFSETTO:-0800
TZNAME:PST
DTSTART:20241103T090000
END:STANDARD
END:VTIMEZONE
BEGIN:VEVENT
DTSTART;TZID=America/Los_Angeles:20230826T140000
DTEND;TZID=America/Los_Angeles:20230826T180000
DTSTAMP:20260422T065008
CREATED:20230808T162129Z
LAST-MODIFIED:20230808T162129Z
UID:34644-1693058400-1693072800@nevadahealthlink.com
SUMMARY:JTNN International Overdose Awareness Day Event
DESCRIPTION:International Overdose Awareness Day remembers those lost to overdose\, acknowledges the grief loved ones left behind\, reduces the stigma of drug related deaths\, and reduces the impact of overdose. \nFamily Friendly Event With: \n\nArt Projects\nMemorial Wall\nFacepainting\nRaffle Prizes\nYoga\nMusic\nFood\nVaccines\nResources\nSpeakers\nAnd so much more!
URL:https://nevadahealthlink.com/event/jtnn-international-overdose-awareness-day-event/
LOCATION:Teglia’s Paradise Park\, 2745 Elementary Dr.\, Reno\, NV\, 89512\, United States
END:VEVENT
BEGIN:VEVENT
DTSTART;TZID=America/Los_Angeles:20230829T120000
DTEND;TZID=America/Los_Angeles:20230829T140000
DTSTAMP:20260422T065008
CREATED:20230807T214058Z
LAST-MODIFIED:20230807T214058Z
UID:34596-1693310400-1693317600@nevadahealthlink.com
SUMMARY:Summer Health Resource Fair
DESCRIPTION:Summer Health Resource Fair \nThis event will highlight health and social service resources available to Las Vegas residents with a focus on those provided by local government agencies. Connect with staff on site to discuss the programs and services that their organizations can provide to you!
URL:https://nevadahealthlink.com/event/summer-health-resource-fair/
LOCATION:Clark County Library\, 1401 E. Flamingo Rd\, Las Vegas\, NV\, 89119\, United States
END:VEVENT
END:VCALENDAR