BEGIN:VCALENDAR
VERSION:2.0
PRODID:-//Nevada Health Link - Official Website - ECPv6.15.14//NONSGML v1.0//EN
CALSCALE:GREGORIAN
METHOD:PUBLISH
X-WR-CALNAME:Nevada Health Link - Official Website
X-ORIGINAL-URL:https://nevadahealthlink.com
X-WR-CALDESC:Events for Nevada Health Link - Official Website
REFRESH-INTERVAL;VALUE=DURATION:PT1H
X-Robots-Tag:noindex
X-PUBLISHED-TTL:PT1H
BEGIN:VTIMEZONE
TZID:America/Los_Angeles
BEGIN:DAYLIGHT
TZOFFSETFROM:-0800
TZOFFSETTO:-0700
TZNAME:PDT
DTSTART:20220313T100000
END:DAYLIGHT
BEGIN:STANDARD
TZOFFSETFROM:-0700
TZOFFSETTO:-0800
TZNAME:PST
DTSTART:20221106T090000
END:STANDARD
BEGIN:DAYLIGHT
TZOFFSETFROM:-0800
TZOFFSETTO:-0700
TZNAME:PDT
DTSTART:20230312T100000
END:DAYLIGHT
BEGIN:STANDARD
TZOFFSETFROM:-0700
TZOFFSETTO:-0800
TZNAME:PST
DTSTART:20231105T090000
END:STANDARD
BEGIN:DAYLIGHT
TZOFFSETFROM:-0800
TZOFFSETTO:-0700
TZNAME:PDT
DTSTART:20240310T100000
END:DAYLIGHT
BEGIN:STANDARD
TZOFFSETFROM:-0700
TZOFFSETTO:-0800
TZNAME:PST
DTSTART:20241103T090000
END:STANDARD
END:VTIMEZONE
BEGIN:VEVENT
DTSTART;TZID=America/Los_Angeles:20231104T170000
DTEND;TZID=America/Los_Angeles:20231104T210000
DTSTAMP:20260420T230420
CREATED:20231012T211755Z
LAST-MODIFIED:20231012T211755Z
UID:35296-1699117200-1699131600@nevadahealthlink.com
SUMMARY:Springs Preserve Dia de Muertos
DESCRIPTION:Las Vegas’s most authentic and largest cultural Day of the Dead event is at the Springs Preserve.  \nA highlight of the event is the display of altars that local artists\, residents\, and community groups create to remember their dearly departed. Participants decorate the altars with photographs\, poems and fun phrases\, burning candles and incense\, and offerings of their loved ones most cherished food and drinks. Event attendees will have the opportunity to vote for their favorite altars and the “People’s Choice” winner will be announced at the conclusion of the festival. Come say hello to us!
URL:https://nevadahealthlink.com/event/springs-preserve-dia-de-muertos-4/
LOCATION:Spring preserve\, 333 S Valley View Blvd\, Las Vegas\, NV\, 89107\, United States
END:VEVENT
BEGIN:VEVENT
DTSTART;TZID=America/Los_Angeles:20231107T120000
DTEND;TZID=America/Los_Angeles:20231107T150000
DTSTAMP:20260420T230420
CREATED:20231024T181151Z
LAST-MODIFIED:20231024T181151Z
UID:35359-1699358400-1699369200@nevadahealthlink.com
SUMMARY:RTC | SNHD Pop-Up Produce Stand
DESCRIPTION:If you’re looking for affordable fresh fruits and vegetables\, look no further than the Bonneville Transit Center (BTC) in downtown Las Vegas! Come say hi to us!
URL:https://nevadahealthlink.com/event/rtc-snhd-pop-up-produce-stand/
LOCATION:BTC Plaza\, 101 E. Bonneville Ave\, Las Vegas\, NV\, 89101\, United States
END:VEVENT
BEGIN:VEVENT
DTSTART;TZID=America/Los_Angeles:20231109T100000
DTEND;TZID=America/Los_Angeles:20231109T140000
DTSTAMP:20260420T230420
CREATED:20231031T183213Z
LAST-MODIFIED:20231031T183213Z
UID:35431-1699524000-1699538400@nevadahealthlink.com
SUMMARY:Senior Expo - Fall Series
DESCRIPTION:Free community event to provide valuable resources for older adults\, caregivers\, and their families. Come say hello to us!
URL:https://nevadahealthlink.com/event/senior-expo-fall-series-10/
LOCATION:Aliante Casino\, 7300 N Aliante Pkwy\, North Las Vegas\, NV\, 89084\, United States
END:VEVENT
BEGIN:VEVENT
DTSTART;TZID=America/Los_Angeles:20231109T100000
DTEND;TZID=America/Los_Angeles:20231109T140000
DTSTAMP:20260420T230420
CREATED:20231024T182154Z
LAST-MODIFIED:20231024T182154Z
UID:35362-1699524000-1699538400@nevadahealthlink.com
SUMMARY:Senior Expo - Fall Series
DESCRIPTION:Free community event to provide valuable resources for older adults\, caregivers\, and their families. Come say hello to us!
URL:https://nevadahealthlink.com/event/senior-expo-fall-series-9/
LOCATION:Aliante Casino\, 7300 N Aliante Pkwy\, North Las Vegas\, NV\, 89084\, United States
END:VEVENT
BEGIN:VEVENT
DTSTART;TZID=America/Los_Angeles:20231112T110000
DTEND;TZID=America/Los_Angeles:20231112T160000
DTSTAMP:20260420T230420
CREATED:20231031T190250Z
LAST-MODIFIED:20231031T190250Z
UID:35436-1699786800-1699804800@nevadahealthlink.com
SUMMARY:Women and Family Expo
DESCRIPTION:The Womens Festival has one goal in mind\, helping you look beautiful. Get free mini-makeovers and see the latest cosmetics and beauty care products. \n  \nVisit with vendors showcasing a comprehensive range of health\, nutrition and fitness products to keep a woman looking young\, healthy and sexy. \n  \nCraft vendors offering wide variety of unique\, hand-made and one-of-a-kind crafts\, ranging from jewelry\, artesian foods\, glass\, metal art\, wood and more. Come say hello to us!
URL:https://nevadahealthlink.com/event/women-and-family-expo/
LOCATION:Galleria Mall at Sunset\, 13600 W. Sunset Road
GEO:36.0722792;-115.2029751
X-APPLE-STRUCTURED-LOCATION;VALUE=URI;X-ADDRESS=Galleria Mall at Sunset 13600 W. Sunset Road;X-APPLE-RADIUS=500;X-TITLE=13600 W. Sunset Road:geo:-115.2029751,36.0722792
END:VEVENT
BEGIN:VEVENT
DTSTART;TZID=America/Los_Angeles:20231116T170000
DTEND;TZID=America/Los_Angeles:20231116T193000
DTSTAMP:20260420T230420
CREATED:20231003T180752Z
LAST-MODIFIED:20231003T180752Z
UID:35138-1700154000-1700163000@nevadahealthlink.com
SUMMARY:Spare a Life
DESCRIPTION:Donor Network West invites northern Nevadans to the National Bowling Stadium at 5:30 p.m. Thursday\, May 19 for ‘Spare a Life\,’ a family-friendly fundraising event with bowling\, food\, prizes and fun that supports a great cause. The inaugural ‘Spare a Life’ event will fund education\, outreach and research efforts for organ donation.
URL:https://nevadahealthlink.com/event/spare-a-life/
LOCATION:National Bowling Statdium\, 300 N Center Street\, Reno\, NV\, 89501\, United States
END:VEVENT
BEGIN:VEVENT
DTSTART;TZID=America/Los_Angeles:20231128T070000
DTEND;TZID=America/Los_Angeles:20231128T100000
DTSTAMP:20260420T230420
CREATED:20231127T210642Z
LAST-MODIFIED:20231127T210642Z
UID:35635-1701154800-1701165600@nevadahealthlink.com
SUMMARY:OSBA & Las Vegas Startup Week's Small Business Week Resource Fair
DESCRIPTION:OSBA and Las Vegas Startup Week’s Small Business Resource Fair\nNevada Lieutenant governors office of Small Business advocacy is hosting a Small Business Resource Fair to help Nevada’s small businesses grow. \n\n\n\nThe Nevada Lieutenant Governor’s Office of Small Business Advocacy is thrilled to announce an exciting opportunity for small businesses in the Silver State. They are hosting a Small Business Resource Fair aimed at propelling Nevada’s entrepreneurial ventures to new heights. This exceptional event is an integral part of the Las Vegas Startup Week’s Small Business Resource Fair\, promising a wealth of opportunities and insights for local businesses. Come stop by and say hello.
URL:https://nevadahealthlink.com/event/osba-las-vegas-startup-weeks-small-business-week-resource-fair/
LOCATION:wework\, 6543 Las Vegas Blvd\, Las Vegas\, NV\, United States
END:VEVENT
BEGIN:VEVENT
DTSTART;TZID=America/Los_Angeles:20231205T120000
DTEND;TZID=America/Los_Angeles:20231205T150000
DTSTAMP:20260420T230420
CREATED:20231127T211318Z
LAST-MODIFIED:20231127T211318Z
UID:35639-1701777600-1701788400@nevadahealthlink.com
SUMMARY:RTC | SNHD Pop-Up Produce Stand
DESCRIPTION:If you’re looking for affordable fresh fruits and vegetables\, look no further than the Bonneville Transit Center (BTC) in downtown Las Vegas! \nThanks to a partnership with the Southern Nevada Health District and Prevail Marketplace\, the RTC is hosting Produce Pop-up Stands throughout 2023. Open to the public\, these pop-up events give Southern Nevadans the opportunity to purchase low-cost fresh produce. Come say hello to us.
URL:https://nevadahealthlink.com/event/rtc-snhd-pop-up-produce-stand-2/
LOCATION:RTC Plaza\, 101 E. Bonneville Ave\, Las Vegas\, NV\, 89101\, United States
END:VEVENT
END:VCALENDAR