BEGIN:VCALENDAR
VERSION:2.0
PRODID:-//Nevada Health Link - Official Website - ECPv6.15.14//NONSGML v1.0//EN
CALSCALE:GREGORIAN
METHOD:PUBLISH
X-WR-CALNAME:Nevada Health Link - Official Website
X-ORIGINAL-URL:https://nevadahealthlink.com
X-WR-CALDESC:Events for Nevada Health Link - Official Website
REFRESH-INTERVAL;VALUE=DURATION:PT1H
X-Robots-Tag:noindex
X-PUBLISHED-TTL:PT1H
BEGIN:VTIMEZONE
TZID:America/Los_Angeles
BEGIN:DAYLIGHT
TZOFFSETFROM:-0800
TZOFFSETTO:-0700
TZNAME:PDT
DTSTART:20220313T100000
END:DAYLIGHT
BEGIN:STANDARD
TZOFFSETFROM:-0700
TZOFFSETTO:-0800
TZNAME:PST
DTSTART:20221106T090000
END:STANDARD
BEGIN:DAYLIGHT
TZOFFSETFROM:-0800
TZOFFSETTO:-0700
TZNAME:PDT
DTSTART:20230312T100000
END:DAYLIGHT
BEGIN:STANDARD
TZOFFSETFROM:-0700
TZOFFSETTO:-0800
TZNAME:PST
DTSTART:20231105T090000
END:STANDARD
BEGIN:DAYLIGHT
TZOFFSETFROM:-0800
TZOFFSETTO:-0700
TZNAME:PDT
DTSTART:20240310T100000
END:DAYLIGHT
BEGIN:STANDARD
TZOFFSETFROM:-0700
TZOFFSETTO:-0800
TZNAME:PST
DTSTART:20241103T090000
END:STANDARD
END:VTIMEZONE
BEGIN:VEVENT
DTSTART;TZID=America/Los_Angeles:20231128T070000
DTEND;TZID=America/Los_Angeles:20231128T100000
DTSTAMP:20260421T003201
CREATED:20231127T210642Z
LAST-MODIFIED:20231127T210642Z
UID:35635-1701154800-1701165600@nevadahealthlink.com
SUMMARY:OSBA & Las Vegas Startup Week's Small Business Week Resource Fair
DESCRIPTION:OSBA and Las Vegas Startup Week’s Small Business Resource Fair\nNevada Lieutenant governors office of Small Business advocacy is hosting a Small Business Resource Fair to help Nevada’s small businesses grow. \n\n\n\nThe Nevada Lieutenant Governor’s Office of Small Business Advocacy is thrilled to announce an exciting opportunity for small businesses in the Silver State. They are hosting a Small Business Resource Fair aimed at propelling Nevada’s entrepreneurial ventures to new heights. This exceptional event is an integral part of the Las Vegas Startup Week’s Small Business Resource Fair\, promising a wealth of opportunities and insights for local businesses. Come stop by and say hello.
URL:https://nevadahealthlink.com/event/osba-las-vegas-startup-weeks-small-business-week-resource-fair/
LOCATION:wework\, 6543 Las Vegas Blvd\, Las Vegas\, NV\, United States
END:VEVENT
BEGIN:VEVENT
DTSTART;TZID=America/Los_Angeles:20231205T120000
DTEND;TZID=America/Los_Angeles:20231205T150000
DTSTAMP:20260421T003201
CREATED:20231127T211318Z
LAST-MODIFIED:20231127T211318Z
UID:35639-1701777600-1701788400@nevadahealthlink.com
SUMMARY:RTC | SNHD Pop-Up Produce Stand
DESCRIPTION:If you’re looking for affordable fresh fruits and vegetables\, look no further than the Bonneville Transit Center (BTC) in downtown Las Vegas! \nThanks to a partnership with the Southern Nevada Health District and Prevail Marketplace\, the RTC is hosting Produce Pop-up Stands throughout 2023. Open to the public\, these pop-up events give Southern Nevadans the opportunity to purchase low-cost fresh produce. Come say hello to us.
URL:https://nevadahealthlink.com/event/rtc-snhd-pop-up-produce-stand-2/
LOCATION:RTC Plaza\, 101 E. Bonneville Ave\, Las Vegas\, NV\, 89101\, United States
END:VEVENT
END:VCALENDAR