BEGIN:VCALENDAR
VERSION:2.0
PRODID:-//Nevada Health Link - Official Website - ECPv6.15.14//NONSGML v1.0//EN
CALSCALE:GREGORIAN
METHOD:PUBLISH
X-ORIGINAL-URL:https://nevadahealthlink.com
X-WR-CALDESC:Events for Nevada Health Link - Official Website
REFRESH-INTERVAL;VALUE=DURATION:PT1H
X-Robots-Tag:noindex
X-PUBLISHED-TTL:PT1H
BEGIN:VTIMEZONE
TZID:America/Los_Angeles
BEGIN:DAYLIGHT
TZOFFSETFROM:-0800
TZOFFSETTO:-0700
TZNAME:PDT
DTSTART:20200308T100000
END:DAYLIGHT
BEGIN:STANDARD
TZOFFSETFROM:-0700
TZOFFSETTO:-0800
TZNAME:PST
DTSTART:20201101T090000
END:STANDARD
BEGIN:DAYLIGHT
TZOFFSETFROM:-0800
TZOFFSETTO:-0700
TZNAME:PDT
DTSTART:20210314T100000
END:DAYLIGHT
BEGIN:STANDARD
TZOFFSETFROM:-0700
TZOFFSETTO:-0800
TZNAME:PST
DTSTART:20211107T090000
END:STANDARD
BEGIN:DAYLIGHT
TZOFFSETFROM:-0800
TZOFFSETTO:-0700
TZNAME:PDT
DTSTART:20220313T100000
END:DAYLIGHT
BEGIN:STANDARD
TZOFFSETFROM:-0700
TZOFFSETTO:-0800
TZNAME:PST
DTSTART:20221106T090000
END:STANDARD
END:VTIMEZONE
BEGIN:VEVENT
DTSTART;TZID=America/Los_Angeles:20210612T090000
DTEND;TZID=America/Los_Angeles:20210612T210000
DTSTAMP:20260425T174340
CREATED:20210610T170550Z
LAST-MODIFIED:20210610T170550Z
UID:27489-1623488400-1623531600@nevadahealthlink.com
SUMMARY:Reno River Festival
DESCRIPTION:Come visit the Nevada Health Link booth to find out information about your health insurance options.
URL:https://nevadahealthlink.com/event/reno-river-festival/2021-06-12/
LOCATION:Wingfield Park\, 300 W. 1st St. \, Reno\, NV\, 89503\, United States
GEO:39.5249294;-119.8167962
X-APPLE-STRUCTURED-LOCATION;VALUE=URI;X-ADDRESS=Wingfield Park 300 W. 1st St.  Reno NV 89503 United States;X-APPLE-RADIUS=500;X-TITLE=300 W. 1st St.:geo:-119.8167962,39.5249294
END:VEVENT
BEGIN:VEVENT
DTSTART;TZID=America/Los_Angeles:20210612T100000
DTEND;TZID=America/Los_Angeles:20210612T140000
DTSTAMP:20260425T174340
CREATED:20210610T172503Z
LAST-MODIFIED:20210610T172503Z
UID:27506-1623492000-1623506400@nevadahealthlink.com
SUMMARY:Clark County Esta En Tus Manos
DESCRIPTION:Come visit the Nevada Health Link booth to find out information about your health insurance options.
URL:https://nevadahealthlink.com/event/clark-county-esta-en-tus-manos-4/
LOCATION:Mariana’s Superm…\, 2325 E Cheyenne\, North Las Vegas\, NV\, 89030\, United States
END:VEVENT
BEGIN:VEVENT
DTSTART;TZID=America/Los_Angeles:20210613T100000
DTEND;TZID=America/Los_Angeles:20210613T140000
DTSTAMP:20260425T174340
CREATED:20210610T171912Z
LAST-MODIFIED:20210610T172013Z
UID:27498-1623578400-1623592800@nevadahealthlink.com
SUMMARY:Clark County Esta En Tus Manos
DESCRIPTION:Come visit the Nevada Health Link booth to find out information about your health insurance options.
URL:https://nevadahealthlink.com/event/clark-county-esta-en-tus-manos/2021-06-13/
LOCATION:Mariana’s Superm…\, 100 N Jones Blvd\, Las Vegas\, NV\, 89107\, United States
END:VEVENT
BEGIN:VEVENT
DTSTART;TZID=America/Los_Angeles:20210617T093000
DTEND;TZID=America/Los_Angeles:20210617T113000
DTSTAMP:20260425T174340
CREATED:20210610T172828Z
LAST-MODIFIED:20210610T172828Z
UID:27511-1623922200-1623929400@nevadahealthlink.com
SUMMARY:Super Build Reveal | Toy Drive
DESCRIPTION:Come visit the Nevada Health Link booth to find out information about your health insurance options.
URL:https://nevadahealthlink.com/event/super-build-reveal-toy-drive/
LOCATION:Freedom Park\, 850 N. Mojave Rd\, Las Vegas\, NV\, 89101
GEO:36.1785571;-115.1020601
X-APPLE-STRUCTURED-LOCATION;VALUE=URI;X-ADDRESS=Freedom Park 850 N. Mojave Rd Las Vegas NV 89101;X-APPLE-RADIUS=500;X-TITLE=850 N. Mojave Rd:geo:-115.1020601,36.1785571
END:VEVENT
BEGIN:VEVENT
DTSTART;TZID=America/Los_Angeles:20210619T130000
DTEND;TZID=America/Los_Angeles:20210619T160000
DTSTAMP:20260425T174340
CREATED:20210610T173142Z
LAST-MODIFIED:20210610T173142Z
UID:27515-1624107600-1624118400@nevadahealthlink.com
SUMMARY:Ward 5 Summer Splash
DESCRIPTION:Come visit the Nevada Health Link booth to find out information about your health insurance options.
URL:https://nevadahealthlink.com/event/ward-5-summer-splash/
LOCATION:Doolittle Pool\, 1950 N. J St\, Las Vegas\, NV\, 89106\, United States
END:VEVENT
BEGIN:VEVENT
DTSTART;TZID=America/Los_Angeles:20210626T100000
DTEND;TZID=America/Los_Angeles:20210626T140000
DTSTAMP:20260425T174340
CREATED:20210610T172233Z
LAST-MODIFIED:20210610T172233Z
UID:27504-1624701600-1624716000@nevadahealthlink.com
SUMMARY:Clark County Esta En Tus Manos
DESCRIPTION:Come visit the Nevada Health Link booth to find out information about your health insurance options.
URL:https://nevadahealthlink.com/event/clark-county-esta-en-tus-manos-3/
LOCATION:Mariana’s Superm…\, 574 N Eastern Ave\, Las Vegas\, NV\, 89101\, United States
END:VEVENT
END:VCALENDAR