BEGIN:VCALENDAR
VERSION:2.0
PRODID:-//Nevada Health Link - Official Website - ECPv6.15.14//NONSGML v1.0//EN
CALSCALE:GREGORIAN
METHOD:PUBLISH
X-ORIGINAL-URL:https://nevadahealthlink.com
X-WR-CALDESC:Events for Nevada Health Link - Official Website
REFRESH-INTERVAL;VALUE=DURATION:PT1H
X-Robots-Tag:noindex
X-PUBLISHED-TTL:PT1H
BEGIN:VTIMEZONE
TZID:America/Los_Angeles
BEGIN:DAYLIGHT
TZOFFSETFROM:-0800
TZOFFSETTO:-0700
TZNAME:PDT
DTSTART:20200308T100000
END:DAYLIGHT
BEGIN:STANDARD
TZOFFSETFROM:-0700
TZOFFSETTO:-0800
TZNAME:PST
DTSTART:20201101T090000
END:STANDARD
BEGIN:DAYLIGHT
TZOFFSETFROM:-0800
TZOFFSETTO:-0700
TZNAME:PDT
DTSTART:20210314T100000
END:DAYLIGHT
BEGIN:STANDARD
TZOFFSETFROM:-0700
TZOFFSETTO:-0800
TZNAME:PST
DTSTART:20211107T090000
END:STANDARD
BEGIN:DAYLIGHT
TZOFFSETFROM:-0800
TZOFFSETTO:-0700
TZNAME:PDT
DTSTART:20220313T100000
END:DAYLIGHT
BEGIN:STANDARD
TZOFFSETFROM:-0700
TZOFFSETTO:-0800
TZNAME:PST
DTSTART:20221106T090000
END:STANDARD
END:VTIMEZONE
BEGIN:VEVENT
DTSTART;TZID=America/Los_Angeles:20210701T120000
DTEND;TZID=America/Los_Angeles:20210701T220000
DTSTAMP:20260425T160138
CREATED:20210630T192327Z
LAST-MODIFIED:20210630T192327Z
UID:27606-1625140800-1625176800@nevadahealthlink.com
SUMMARY:Fourth of July Celebration in Carson City
DESCRIPTION:Come visit the Nevada Health Link booth to find out information about your health insurance options.
URL:https://nevadahealthlink.com/event/fourth-of-july-celebration-in-carson-city/2021-07-01/
LOCATION:Mills Park\, 1111 E. William St.\, Carson City\, NV\, 89701\, United States
GEO:39.1707343;-119.7565875
X-APPLE-STRUCTURED-LOCATION;VALUE=URI;X-ADDRESS=Mills Park 1111 E. William St. Carson City NV 89701 United States;X-APPLE-RADIUS=500;X-TITLE=1111 E. William St.:geo:-119.7565875,39.1707343
END:VEVENT
BEGIN:VEVENT
DTSTART;TZID=America/Los_Angeles:20210724T080000
DTEND;TZID=America/Los_Angeles:20210724T120000
DTSTAMP:20260425T160138
CREATED:20210715T195422Z
LAST-MODIFIED:20210715T195422Z
UID:27777-1627113600-1627128000@nevadahealthlink.com
SUMMARY:Family Health Festival
DESCRIPTION:Come visit the Nevada Health Link booth to find out information about your health insurance options.
URL:https://nevadahealthlink.com/event/family-health-festival-3/
LOCATION:North Valley High School\, 1470 E Golden Valley Rd\,\, Reno\, NV\, 89506\, United States
END:VEVENT
BEGIN:VEVENT
DTSTART;TZID=America/Los_Angeles:20210724T110000
DTEND;TZID=America/Los_Angeles:20210724T170000
DTSTAMP:20260425T160138
CREATED:20210630T192445Z
LAST-MODIFIED:20210630T192445Z
UID:27609-1627124400-1627146000@nevadahealthlink.com
SUMMARY:Northern Nevada Pride
DESCRIPTION:Come visit the Nevada Health Link booth to find out information about your health insurance options.
URL:https://nevadahealthlink.com/event/northern-nevada-pride-2/
LOCATION:Wingfield Park\, 300 W. 1st St. \, Reno\, NV\, 89503\, United States
GEO:39.5249294;-119.8167962
X-APPLE-STRUCTURED-LOCATION;VALUE=URI;X-ADDRESS=Wingfield Park 300 W. 1st St.  Reno NV 89503 United States;X-APPLE-RADIUS=500;X-TITLE=300 W. 1st St.:geo:-119.8167962,39.5249294
END:VEVENT
BEGIN:VEVENT
DTSTART;TZID=America/Los_Angeles:20210727T130000
DTEND;TZID=America/Los_Angeles:20210727T150000
DTSTAMP:20260425T160138
CREATED:20210730T185159Z
LAST-MODIFIED:20210730T185828Z
UID:27930-1627390800-1627398000@nevadahealthlink.com
SUMMARY:RTC Summer Heat Events
DESCRIPTION:Come visit the Nevada Health Link booth to find out information about your health insurance options.
URL:https://nevadahealthlink.com/event/rtc-summer-heat-events/
LOCATION:RTC South Strip Transi…\, 6675 S. Gilespie St.\, Las Vegas\, NV\, 89119\, United States
END:VEVENT
BEGIN:VEVENT
DTSTART;TZID=America/Los_Angeles:20210730T080000
DTEND;TZID=America/Los_Angeles:20210730T170000
DTSTAMP:20260425T160138
CREATED:20210730T190935Z
LAST-MODIFIED:20210730T190935Z
UID:27944-1627632000-1627664400@nevadahealthlink.com
SUMMARY:Whitney Library Back to School Fair
DESCRIPTION:Come visit the Nevada Health Link booth to find out information about your health insurance options.
URL:https://nevadahealthlink.com/event/whitney-library-back-to-school-fair/
LOCATION:Whitney Library\, 5175 E. Tropicana Ave\, Las Vegas\, NV\, 89122\, United States
END:VEVENT
BEGIN:VEVENT
DTSTART;TZID=America/Los_Angeles:20210731T110000
DTEND;TZID=America/Los_Angeles:20210731T140000
DTSTAMP:20260425T160138
CREATED:20210730T190018Z
LAST-MODIFIED:20210730T190018Z
UID:27935-1627729200-1627740000@nevadahealthlink.com
SUMMARY:Christmas in July Back to School Event
DESCRIPTION:Come visit the Nevada Health Link booth to find out information about your health insurance options.
URL:https://nevadahealthlink.com/event/christmas-in-july-back-to-school-event/
LOCATION:Boys and Girls Club Tr…\, 2680 9th Street Reno\, Reno\, NV\, 89512
END:VEVENT
BEGIN:VEVENT
DTSTART;TZID=America/Los_Angeles:20210731T170000
DTEND;TZID=America/Los_Angeles:20210731T200000
DTSTAMP:20260425T160138
CREATED:20210715T195633Z
LAST-MODIFIED:20210715T195649Z
UID:27779-1627750800-1627761600@nevadahealthlink.com
SUMMARY:Nevada Partners Back to School Fair
DESCRIPTION:Come visit the Nevada Health Link booth to find out information about your health insurance options.
URL:https://nevadahealthlink.com/event/nevada-partners-back-to-school-fair/
LOCATION:Nevada Partners Parkin…\, 690 W. Lake Mead Blvd\, North Las Vegas\, NV\, 89030\, United States
END:VEVENT
END:VCALENDAR