BEGIN:VCALENDAR
VERSION:2.0
PRODID:-//Nevada Health Link - Official Website - ECPv6.15.14//NONSGML v1.0//EN
CALSCALE:GREGORIAN
METHOD:PUBLISH
X-WR-CALNAME:Nevada Health Link - Official Website
X-ORIGINAL-URL:https://nevadahealthlink.com
X-WR-CALDESC:Events for Nevada Health Link - Official Website
REFRESH-INTERVAL;VALUE=DURATION:PT1H
X-Robots-Tag:noindex
X-PUBLISHED-TTL:PT1H
BEGIN:VTIMEZONE
TZID:America/Los_Angeles
BEGIN:DAYLIGHT
TZOFFSETFROM:-0800
TZOFFSETTO:-0700
TZNAME:PDT
DTSTART:20200308T100000
END:DAYLIGHT
BEGIN:STANDARD
TZOFFSETFROM:-0700
TZOFFSETTO:-0800
TZNAME:PST
DTSTART:20201101T090000
END:STANDARD
BEGIN:DAYLIGHT
TZOFFSETFROM:-0800
TZOFFSETTO:-0700
TZNAME:PDT
DTSTART:20210314T100000
END:DAYLIGHT
BEGIN:STANDARD
TZOFFSETFROM:-0700
TZOFFSETTO:-0800
TZNAME:PST
DTSTART:20211107T090000
END:STANDARD
BEGIN:DAYLIGHT
TZOFFSETFROM:-0800
TZOFFSETTO:-0700
TZNAME:PDT
DTSTART:20220313T100000
END:DAYLIGHT
BEGIN:STANDARD
TZOFFSETFROM:-0700
TZOFFSETTO:-0800
TZNAME:PST
DTSTART:20221106T090000
END:STANDARD
END:VTIMEZONE
BEGIN:VEVENT
DTSTART;TZID=America/Los_Angeles:20210909T040000
DTEND;TZID=America/Los_Angeles:20210909T100000
DTSTAMP:20260425T124622
CREATED:20210715T195906Z
LAST-MODIFIED:20210715T195959Z
UID:27783-1631160000-1631181600@nevadahealthlink.com
SUMMARY:The Great Balloon Race
DESCRIPTION:Come visit the Nevada Health Link booth to find out information about your health insurance options.
URL:https://nevadahealthlink.com/event/the-great-balloon-race/2021-09-09/
LOCATION:Rancho San Rafael Park\, 1595 N. Sierra St.\, Reno\, NV\, 89503\, United States
GEO:39.5457302;-119.8239737
X-APPLE-STRUCTURED-LOCATION;VALUE=URI;X-ADDRESS=Rancho San Rafael Park 1595 N. Sierra St. Reno NV 89503 United States;X-APPLE-RADIUS=500;X-TITLE=1595 N. Sierra St.:geo:-119.8239737,39.5457302
END:VEVENT
BEGIN:VEVENT
DTSTART;TZID=America/Los_Angeles:20210917T180000
DTEND;TZID=America/Los_Angeles:20210917T210000
DTSTAMP:20260425T124622
CREATED:20210908T180831Z
LAST-MODIFIED:20210908T180831Z
UID:28178-1631901600-1631912400@nevadahealthlink.com
SUMMARY:City of North Las Vegas Movie Madness - Coco
DESCRIPTION:Come visit the Nevada Health Link booth to find out information about your health insurance options.
URL:https://nevadahealthlink.com/event/city-of-north-las-vegas-movie-madness-coco/
LOCATION:Hartke Park\, 1401 E. Tonopah Avenue\, North Las Vegas\, NV\, 89030\, United States
END:VEVENT
BEGIN:VEVENT
DTSTART;TZID=America/Los_Angeles:20210918T080000
DTEND;TZID=America/Los_Angeles:20210918T100000
DTSTAMP:20260425T124622
CREATED:20210908T181221Z
LAST-MODIFIED:20210908T181221Z
UID:28184-1631952000-1631959200@nevadahealthlink.com
SUMMARY:Latin Bar Association 3rd Annual Andale 5K
DESCRIPTION:Come visit the Nevada Health Link booth to find out information about your health insurance options.
URL:https://nevadahealthlink.com/event/latin-bar-association-3rd-annual-andale-5k/
LOCATION:Kellogg Zaher Sports C…\, 7901 W Washington Ave\, Las Vegas\, NV\, 89128\, United States
END:VEVENT
BEGIN:VEVENT
DTSTART;TZID=America/Los_Angeles:20210918T100000
DTEND;TZID=America/Los_Angeles:20210918T180000
DTSTAMP:20260425T124622
CREATED:20210908T181034Z
LAST-MODIFIED:20210908T181034Z
UID:28181-1631959200-1631988000@nevadahealthlink.com
SUMMARY:HIP Hispanic Heritage Month Festival
DESCRIPTION:Come visit the Nevada Health Link booth to find out information about your health insurance options.
URL:https://nevadahealthlink.com/event/hip-hispanic-heritage-month-festival/
LOCATION:Gary Reese Freedmon Park\, 850 N. Mojave Rd.\, Las Vegas\, NV\, 89101\, United States
END:VEVENT
BEGIN:VEVENT
DTSTART;TZID=America/Los_Angeles:20210924T150000
DTEND;TZID=America/Los_Angeles:20210924T210000
DTSTAMP:20260425T124622
CREATED:20210920T170005Z
LAST-MODIFIED:20210920T170005Z
UID:28320-1632495600-1632517200@nevadahealthlink.com
SUMMARY:AfrikFest Las Vegas
DESCRIPTION:AfrikFest Las Vegas (“AfrikFest”) is a community-based\, socio-cultural organization working towards bringing together the African communities in the U.S.\, Africa and around the world. Created by members of the African community in Las Vegas\, Nevada\, the name “AfrikFest\,” meaning African Festival\, was chosen to capture the essence of the African cultural experience. AfrikFest is committed to recreating and reinforcing the cultural values among the peoples of Africa\, and to establishing those values in the minds of our new generations residing outside Africa. \nThere will be entertainment\, food\, a fashion show\, African dance\, drums\, and fun for the entire family. Come enjoy the festivities and stop by the Nevada Health Link booth to learn about your health insurance options.
URL:https://nevadahealthlink.com/event/afrikfest-las-vegas/
LOCATION:Conference Center of L…\, 6950 Bermuda Road\, Las Vegas\, NV\, 89119\, United States
END:VEVENT
BEGIN:VEVENT
DTSTART;TZID=America/Los_Angeles:20210924T180000
DTEND;TZID=America/Los_Angeles:20210924T210000
DTSTAMP:20260425T124622
CREATED:20210908T181401Z
LAST-MODIFIED:20210920T163240Z
UID:28187-1632506400-1632517200@nevadahealthlink.com
SUMMARY:City of North Las Vegas Movie Madness - Avengers: Endgame
DESCRIPTION:Join us at the Nature Discovery Park for the showing of Avengers: Endgame. Enjoy a variety of popular movie showings at parks throughout North Las Vegas!  Admission is free\, and the events are open to the public. Food and drinks will be available for purchase at each location. Coolers\, picnic baskets and blankets are welcome. Please\, no alcohol\, high-back chairs\, tables or umbrellas. Before the movie check out the Nevada Health Link booth to find out information about your health insurance options.
URL:https://nevadahealthlink.com/event/city-of-north-las-vegas-movie-madness-avengers-endgame/
LOCATION:Nature Discovery Park\, 2627 Nature Park Drive\, North Las Vegas\, NV\, 89084\, United States
END:VEVENT
BEGIN:VEVENT
DTSTART;TZID=America/Los_Angeles:20210925T073000
DTEND;TZID=America/Los_Angeles:20210925T113000
DTSTAMP:20260425T124622
CREATED:20210908T181554Z
LAST-MODIFIED:20210920T161848Z
UID:28190-1632555000-1632569400@nevadahealthlink.com
SUMMARY:Las Vegas Sickle Cell Walk
DESCRIPTION:For the forth year in a row\, Dreamsickle Kids Foundation\, Inc will host the only Sickle Cell charity walk in Nevada. The walk is to raise funds to support the small grassroots organization in their continued mission to increase Sickle Cell Awareness in the state and provide support to those in Nevada that are impacted by this rare genetic disease.
URL:https://nevadahealthlink.com/event/las-vegas-sickle-cell-walk/
LOCATION:Pearson Community Center\, 1625 W. Carey Ave\, Las Vegas\, NV\, 89106\, United States
END:VEVENT
BEGIN:VEVENT
DTSTART;TZID=America/Los_Angeles:20210926T100000
DTEND;TZID=America/Los_Angeles:20210926T140000
DTSTAMP:20260425T124622
CREATED:20210908T181734Z
LAST-MODIFIED:20210920T162045Z
UID:28192-1632650400-1632664800@nevadahealthlink.com
SUMMARY:Vegas PBS Be My Neighbor Day
DESCRIPTION:Join us for the return of Be My Neighbor Day on Sunday\, September 26\, 2021. Presented by the Howard Hughes Corporation\, Be My Neighbor Day is a free outdoors event that promotes being a caring neighbor. Attendees will be able to engage in family friendly activities\, explore first-responder vehicles\, meet with vendors and have an unforgettable\, fun-filled day! Visit the Nevada Health Link booth to find out information about your health insurance options.
URL:https://nevadahealthlink.com/event/vegas-pbs-be-my-neighbor-day/
LOCATION:The Lawn at Downtown S…\, 1980 Festival Plaza Dr\, Las Vegas\, NV\, 89135\, United States
END:VEVENT
END:VCALENDAR