BEGIN:VCALENDAR
VERSION:2.0
PRODID:-//Nevada Health Link - Official Website - ECPv6.15.14//NONSGML v1.0//EN
CALSCALE:GREGORIAN
METHOD:PUBLISH
X-WR-CALNAME:Nevada Health Link - Official Website
X-ORIGINAL-URL:https://nevadahealthlink.com
X-WR-CALDESC:Events for Nevada Health Link - Official Website
REFRESH-INTERVAL;VALUE=DURATION:PT1H
X-Robots-Tag:noindex
X-PUBLISHED-TTL:PT1H
BEGIN:VTIMEZONE
TZID:America/Los_Angeles
BEGIN:DAYLIGHT
TZOFFSETFROM:-0800
TZOFFSETTO:-0700
TZNAME:PDT
DTSTART:20200308T100000
END:DAYLIGHT
BEGIN:STANDARD
TZOFFSETFROM:-0700
TZOFFSETTO:-0800
TZNAME:PST
DTSTART:20201101T090000
END:STANDARD
BEGIN:DAYLIGHT
TZOFFSETFROM:-0800
TZOFFSETTO:-0700
TZNAME:PDT
DTSTART:20210314T100000
END:DAYLIGHT
BEGIN:STANDARD
TZOFFSETFROM:-0700
TZOFFSETTO:-0800
TZNAME:PST
DTSTART:20211107T090000
END:STANDARD
BEGIN:DAYLIGHT
TZOFFSETFROM:-0800
TZOFFSETTO:-0700
TZNAME:PDT
DTSTART:20220313T100000
END:DAYLIGHT
BEGIN:STANDARD
TZOFFSETFROM:-0700
TZOFFSETTO:-0800
TZNAME:PST
DTSTART:20221106T090000
END:STANDARD
BEGIN:DAYLIGHT
TZOFFSETFROM:-0800
TZOFFSETTO:-0700
TZNAME:PDT
DTSTART:20230312T100000
END:DAYLIGHT
BEGIN:STANDARD
TZOFFSETFROM:-0700
TZOFFSETTO:-0800
TZNAME:PST
DTSTART:20231105T090000
END:STANDARD
END:VTIMEZONE
BEGIN:VEVENT
DTSTART;VALUE=DATE:20211101
DTEND;VALUE=DATE:20220116
DTSTAMP:20260425T160049
CREATED:20210915T172054Z
LAST-MODIFIED:20210915T172130Z
UID:28230-1635724800-1642291199@nevadahealthlink.com
SUMMARY:Open Enrollment - Plan Year 2022
DESCRIPTION:Open Enrollment is the yearly period when people can enroll in a health insurance plan. Open Enrollment runs from November 1\, 2021 to January 15\, 2022. For coverage beginning January 1\, 2022 you must enroll by December 31\, 2021.
URL:https://nevadahealthlink.com/event/open-enrollment-plan-year-2022/
LOCATION:NV
END:VEVENT
BEGIN:VEVENT
DTSTART;TZID=America/Los_Angeles:20211203T100000
DTEND;TZID=America/Los_Angeles:20211203T150000
DTSTAMP:20260425T160049
CREATED:20211007T204728Z
LAST-MODIFIED:20211007T204728Z
UID:28461-1638525600-1638543600@nevadahealthlink.com
SUMMARY:Senior Expo
DESCRIPTION:A free community event for older adults\, caregivers\, and their families. It is a day of fun\, prizes\, giveaways\, door prizes\, and live entertainment! Over 150 local vendors are representing community resources\, senior healthcare\, housing\, financial and legal assistance\, end-of-life considerations\, travel and leisure\, volunteer\, and employment opportunities. Come visit the Nevada Health Link booth to find out information about your health insurance options.
URL:https://nevadahealthlink.com/event/senior-expo-7/
LOCATION:Pahrump Nugget Casino\, 681 NV-160\, Pahrump\, NV\, 89048\, United States
END:VEVENT
BEGIN:VEVENT
DTSTART;TZID=America/Los_Angeles:20211207T090000
DTEND;TZID=America/Los_Angeles:20211207T140000
DTSTAMP:20260425T160049
CREATED:20211207T211534Z
LAST-MODIFIED:20211207T211534Z
UID:28777-1638867600-1638885600@nevadahealthlink.com
SUMMARY:Governor's JobFest
DESCRIPTION:Come see us at the State of Nevada JobFest hosted by Governor Sisolak\, the Governor’s Office of Economic Development (GOED) and the Department of Employment\, Training and Rehabilitation (DETR). We’ll be here from 9 am to 2 pm in the Las Vegas Convention Center with lots of information about how you can find the right health insurance coverage for you!
URL:https://nevadahealthlink.com/event/governors-jobfest/
LOCATION:Las Vegas Convention C…\, 3150 Paradise Rd\, Las Vegas\, NV\, 89109\, United States
GEO:36.1325407;-115.1553299
X-APPLE-STRUCTURED-LOCATION;VALUE=URI;X-ADDRESS=Las Vegas Convention C… 3150 Paradise Rd Las Vegas NV 89109 United States;X-APPLE-RADIUS=500;X-TITLE=3150 Paradise Rd:geo:-115.1553299,36.1325407
END:VEVENT
BEGIN:VEVENT
DTSTART;TZID=America/Los_Angeles:20211215T190000
DTEND;TZID=America/Los_Angeles:20211215T210000
DTSTAMP:20260425T160049
CREATED:20211207T212142Z
LAST-MODIFIED:20211207T212142Z
UID:28780-1639594800-1639602000@nevadahealthlink.com
SUMMARY:UNR Wolf Pack Home Game - vs University of Minnesota-Duluth
DESCRIPTION:Show your Wolf Pack pride and check out the men’s basketball team Wednesday\, December 15\, 2021 at 7:00 pm . Don’t forget to stop by the Nevada Health Link booth to learn about your health insurance options.
URL:https://nevadahealthlink.com/event/unr-wolf-pack-home-game-vs-university-of-minnesota-duluth/
LOCATION:Lawlor Events Center\, 1500 N. Virgnia St\, Reno\, NV\, 89557\, United States
GEO:39.5440106;-119.8186642
X-APPLE-STRUCTURED-LOCATION;VALUE=URI;X-ADDRESS=Lawlor Events Center 1500 N. Virgnia St Reno NV 89557 United States;X-APPLE-RADIUS=500;X-TITLE=1500 N. Virgnia St:geo:-119.8186642,39.5440106
END:VEVENT
BEGIN:VEVENT
DTSTART;TZID=America/Los_Angeles:20211218T200000
DTEND;TZID=America/Los_Angeles:20211218T220000
DTSTAMP:20260425T160049
CREATED:20211207T212409Z
LAST-MODIFIED:20211207T212409Z
UID:28782-1639857600-1639864800@nevadahealthlink.com
SUMMARY:UNR Wolf Pack Home Game - vs Loyola Marymount
DESCRIPTION:Show your Wolf Pack pride and check out the men’s basketball team Saturday\, December 18\, 2021 at 8:00 pm . Don’t forget to stop by the Nevada Health Link booth to learn about your health insurance options.
URL:https://nevadahealthlink.com/event/unr-wolf-pack-home-game-vs-loyola-marymount/
LOCATION:Lawlor Events Center\, 1500 N. Virgnia St\, Reno\, NV\, 89557\, United States
GEO:39.5440106;-119.8186642
X-APPLE-STRUCTURED-LOCATION;VALUE=URI;X-ADDRESS=Lawlor Events Center 1500 N. Virgnia St Reno NV 89557 United States;X-APPLE-RADIUS=500;X-TITLE=1500 N. Virgnia St:geo:-119.8186642,39.5440106
END:VEVENT
END:VCALENDAR