BEGIN:VCALENDAR
VERSION:2.0
PRODID:-//Nevada Health Link - Official Website - ECPv6.15.14//NONSGML v1.0//EN
CALSCALE:GREGORIAN
METHOD:PUBLISH
X-ORIGINAL-URL:https://nevadahealthlink.com
X-WR-CALDESC:Events for Nevada Health Link - Official Website
REFRESH-INTERVAL;VALUE=DURATION:PT1H
X-Robots-Tag:noindex
X-PUBLISHED-TTL:PT1H
BEGIN:VTIMEZONE
TZID:America/Los_Angeles
BEGIN:DAYLIGHT
TZOFFSETFROM:-0800
TZOFFSETTO:-0700
TZNAME:PDT
DTSTART:20200308T100000
END:DAYLIGHT
BEGIN:STANDARD
TZOFFSETFROM:-0700
TZOFFSETTO:-0800
TZNAME:PST
DTSTART:20201101T090000
END:STANDARD
BEGIN:DAYLIGHT
TZOFFSETFROM:-0800
TZOFFSETTO:-0700
TZNAME:PDT
DTSTART:20210314T100000
END:DAYLIGHT
BEGIN:STANDARD
TZOFFSETFROM:-0700
TZOFFSETTO:-0800
TZNAME:PST
DTSTART:20211107T090000
END:STANDARD
BEGIN:DAYLIGHT
TZOFFSETFROM:-0800
TZOFFSETTO:-0700
TZNAME:PDT
DTSTART:20220313T100000
END:DAYLIGHT
BEGIN:STANDARD
TZOFFSETFROM:-0700
TZOFFSETTO:-0800
TZNAME:PST
DTSTART:20221106T090000
END:STANDARD
BEGIN:DAYLIGHT
TZOFFSETFROM:-0800
TZOFFSETTO:-0700
TZNAME:PDT
DTSTART:20230312T100000
END:DAYLIGHT
BEGIN:STANDARD
TZOFFSETFROM:-0700
TZOFFSETTO:-0800
TZNAME:PST
DTSTART:20231105T090000
END:STANDARD
END:VTIMEZONE
BEGIN:VEVENT
DTSTART;VALUE=DATE:20211101
DTEND;VALUE=DATE:20220116
DTSTAMP:20260425T174338
CREATED:20210915T172054Z
LAST-MODIFIED:20210915T172130Z
UID:28230-1635724800-1642291199@nevadahealthlink.com
SUMMARY:Open Enrollment - Plan Year 2022
DESCRIPTION:Open Enrollment is the yearly period when people can enroll in a health insurance plan. Open Enrollment runs from November 1\, 2021 to January 15\, 2022. For coverage beginning January 1\, 2022 you must enroll by December 31\, 2021.
URL:https://nevadahealthlink.com/event/open-enrollment-plan-year-2022/
LOCATION:NV
END:VEVENT
BEGIN:VEVENT
DTSTART;TZID=America/Los_Angeles:20220112T190000
DTEND;TZID=America/Los_Angeles:20220112T210000
DTSTAMP:20260425T174338
CREATED:20211207T212538Z
LAST-MODIFIED:20211207T212538Z
UID:28784-1642014000-1642021200@nevadahealthlink.com
SUMMARY:UNR Wolf Pack Home Game - vs Boise
DESCRIPTION:Show your Wolf Pack pride and check out the men’s basketball team Wednesday\, January 12\, 2022 at 7:00 pm . Don’t forget to stop by the Nevada Health Link booth to learn about your health insurance options.
URL:https://nevadahealthlink.com/event/unr-wolf-pack-home-game-vs-boise/
LOCATION:Lawlor Events Center\, 1500 N. Virgnia St\, Reno\, NV\, 89557\, United States
GEO:39.5440106;-119.8186642
X-APPLE-STRUCTURED-LOCATION;VALUE=URI;X-ADDRESS=Lawlor Events Center 1500 N. Virgnia St Reno NV 89557 United States;X-APPLE-RADIUS=500;X-TITLE=1500 N. Virgnia St:geo:-119.8186642,39.5440106
END:VEVENT
BEGIN:VEVENT
DTSTART;TZID=America/Los_Angeles:20220121T200000
DTEND;TZID=America/Los_Angeles:20220121T220000
DTSTAMP:20260425T174338
CREATED:20220118T182309Z
LAST-MODIFIED:20220118T182853Z
UID:28958-1642795200-1642802400@nevadahealthlink.com
SUMMARY:UNR Wolf Pack Home Game – vs Fresno State
DESCRIPTION:Show your Wolf Pack pride and check out the men’s basketball team Wednesday\, January 21\, 2022 at 8:00 pm . Don’t forget to stop by the Nevada Health Link booth to learn about your health insurance options.
URL:https://nevadahealthlink.com/event/unr-wolf-pack-home-game-vs-fresno-state/
LOCATION:Lawlor Events Center\, 1500 N. Virgnia St\, Reno\, NV\, 89557\, United States
GEO:39.5440106;-119.8186642
X-APPLE-STRUCTURED-LOCATION;VALUE=URI;X-ADDRESS=Lawlor Events Center 1500 N. Virgnia St Reno NV 89557 United States;X-APPLE-RADIUS=500;X-TITLE=1500 N. Virgnia St:geo:-119.8186642,39.5440106
END:VEVENT
BEGIN:VEVENT
DTSTART;TZID=America/Los_Angeles:20220129T190000
DTEND;TZID=America/Los_Angeles:20220129T210000
DTSTAMP:20260425T174338
CREATED:20220118T182759Z
LAST-MODIFIED:20220118T182759Z
UID:28960-1643482800-1643490000@nevadahealthlink.com
SUMMARY:UNR Wolf Pack Home Game – vs Utah State
DESCRIPTION:Show your Wolf Pack pride and check out the men’s basketball team Wednesday\, January 29\, 2022 at 7:00 pm . Don’t forget to stop by the Nevada Health Link booth to learn about your health insurance options.
URL:https://nevadahealthlink.com/event/unr-wolf-pack-home-game-vs-utah-state/
LOCATION:Lawlor Events Center\, 1500 N. Virgnia St\, Reno\, NV\, 89557\, United States
GEO:39.5440106;-119.8186642
X-APPLE-STRUCTURED-LOCATION;VALUE=URI;X-ADDRESS=Lawlor Events Center 1500 N. Virgnia St Reno NV 89557 United States;X-APPLE-RADIUS=500;X-TITLE=1500 N. Virgnia St:geo:-119.8186642,39.5440106
END:VEVENT
END:VCALENDAR