BEGIN:VCALENDAR
VERSION:2.0
PRODID:-//Nevada Health Link - Official Website - ECPv6.15.14//NONSGML v1.0//EN
CALSCALE:GREGORIAN
METHOD:PUBLISH
X-ORIGINAL-URL:https://nevadahealthlink.com
X-WR-CALDESC:Events for Nevada Health Link - Official Website
REFRESH-INTERVAL;VALUE=DURATION:PT1H
X-Robots-Tag:noindex
X-PUBLISHED-TTL:PT1H
BEGIN:VTIMEZONE
TZID:America/Los_Angeles
BEGIN:DAYLIGHT
TZOFFSETFROM:-0800
TZOFFSETTO:-0700
TZNAME:PDT
DTSTART:20210314T100000
END:DAYLIGHT
BEGIN:STANDARD
TZOFFSETFROM:-0700
TZOFFSETTO:-0800
TZNAME:PST
DTSTART:20211107T090000
END:STANDARD
BEGIN:DAYLIGHT
TZOFFSETFROM:-0800
TZOFFSETTO:-0700
TZNAME:PDT
DTSTART:20220313T100000
END:DAYLIGHT
BEGIN:STANDARD
TZOFFSETFROM:-0700
TZOFFSETTO:-0800
TZNAME:PST
DTSTART:20221106T090000
END:STANDARD
BEGIN:DAYLIGHT
TZOFFSETFROM:-0800
TZOFFSETTO:-0700
TZNAME:PDT
DTSTART:20230312T100000
END:DAYLIGHT
BEGIN:STANDARD
TZOFFSETFROM:-0700
TZOFFSETTO:-0800
TZNAME:PST
DTSTART:20231105T090000
END:STANDARD
END:VTIMEZONE
BEGIN:VEVENT
DTSTART;TZID=America/Los_Angeles:20220305T090000
DTEND;TZID=America/Los_Angeles:20220305T110000
DTSTAMP:20260425T212641
CREATED:20220118T185525Z
LAST-MODIFIED:20220118T185624Z
UID:28978-1646470800-1646478000@nevadahealthlink.com
SUMMARY:Hello\, 89512
DESCRIPTION:Seniors in the 89512 zip code\, come out Saturday\, March 5\, to the Reno Housing Authority\, Silverada Community Center\, 1400 Silverada Blvd.\, Reno. Connect with neighbors\, meet new friends\, get entered into a gift card raffle\, and receive important information from community organizations\, including Nevada Health Link.
URL:https://nevadahealthlink.com/event/hello-89512-2/
LOCATION:Reno Housing Authority\, 1400 Silverada Blvd.\, Reno\, NV\, 89512\, United States
END:VEVENT
BEGIN:VEVENT
DTSTART;TZID=America/Los_Angeles:20220305T193000
DTEND;TZID=America/Los_Angeles:20220305T213000
DTSTAMP:20260425T212641
CREATED:20220118T185337Z
LAST-MODIFIED:20220118T185337Z
UID:28976-1646508600-1646515800@nevadahealthlink.com
SUMMARY:UNR Wolf Pack Home Game – vs. San Diego State
DESCRIPTION:Show your Wolf Pack pride and check out the men’s basketball team Wednesday\, March 5\, 2022 at 7:30 pm . Don’t forget to stop by the Nevada Health Link booth to learn about your health insurance options.
URL:https://nevadahealthlink.com/event/unr-wolf-pack-home-game-vs-san-diego-state/
LOCATION:Lawlor Events Center\, 1500 N. Virgnia St\, Reno\, NV\, 89557\, United States
GEO:39.5440106;-119.8186642
X-APPLE-STRUCTURED-LOCATION;VALUE=URI;X-ADDRESS=Lawlor Events Center 1500 N. Virgnia St Reno NV 89557 United States;X-APPLE-RADIUS=500;X-TITLE=1500 N. Virgnia St:geo:-119.8186642,39.5440106
END:VEVENT
BEGIN:VEVENT
DTSTART;TZID=America/Los_Angeles:20220319T100000
DTEND;TZID=America/Los_Angeles:20220319T160000
DTSTAMP:20260425T212641
CREATED:20220314T155705Z
LAST-MODIFIED:20220314T155705Z
UID:30327-1647684000-1647705600@nevadahealthlink.com
SUMMARY:Women's Day Out Expo
DESCRIPTION:The Women’s Day Out Expo is an event for women to come together\, bond\, be educated\, be inspired and uplifted while still enjoying things women love to do. Don’t forget to stop by the Nevada Health Link booth to learn about your health insurance options.
URL:https://nevadahealthlink.com/event/womens-day-out-expo/
LOCATION:Gold Coast Hotel\, 4000 W. Flamingo Rd\, Las Vegas\, NV\, 89103
GEO:36.1165485;-115.1928065
X-APPLE-STRUCTURED-LOCATION;VALUE=URI;X-ADDRESS=Gold Coast Hotel 4000 W. Flamingo Rd Las Vegas NV 89103;X-APPLE-RADIUS=500;X-TITLE=4000 W. Flamingo Rd:geo:-115.1928065,36.1165485
END:VEVENT
END:VCALENDAR