BEGIN:VCALENDAR
VERSION:2.0
PRODID:-//Nevada Health Link - Official Website - ECPv6.15.14//NONSGML v1.0//EN
CALSCALE:GREGORIAN
METHOD:PUBLISH
X-ORIGINAL-URL:https://nevadahealthlink.com
X-WR-CALDESC:Events for Nevada Health Link - Official Website
REFRESH-INTERVAL;VALUE=DURATION:PT1H
X-Robots-Tag:noindex
X-PUBLISHED-TTL:PT1H
BEGIN:VTIMEZONE
TZID:America/Los_Angeles
BEGIN:DAYLIGHT
TZOFFSETFROM:-0800
TZOFFSETTO:-0700
TZNAME:PDT
DTSTART:20210314T100000
END:DAYLIGHT
BEGIN:STANDARD
TZOFFSETFROM:-0700
TZOFFSETTO:-0800
TZNAME:PST
DTSTART:20211107T090000
END:STANDARD
BEGIN:DAYLIGHT
TZOFFSETFROM:-0800
TZOFFSETTO:-0700
TZNAME:PDT
DTSTART:20220313T100000
END:DAYLIGHT
BEGIN:STANDARD
TZOFFSETFROM:-0700
TZOFFSETTO:-0800
TZNAME:PST
DTSTART:20221106T090000
END:STANDARD
BEGIN:DAYLIGHT
TZOFFSETFROM:-0800
TZOFFSETTO:-0700
TZNAME:PDT
DTSTART:20230312T100000
END:DAYLIGHT
BEGIN:STANDARD
TZOFFSETFROM:-0700
TZOFFSETTO:-0800
TZNAME:PST
DTSTART:20231105T090000
END:STANDARD
END:VTIMEZONE
BEGIN:VEVENT
DTSTART;TZID=America/Los_Angeles:20220504T160000
DTEND;TZID=America/Los_Angeles:20220504T190000
DTSTAMP:20260425T162048
CREATED:20220314T175005Z
LAST-MODIFIED:20220314T175005Z
UID:30376-1651680000-1651690800@nevadahealthlink.com
SUMMARY:Family Health Festival
DESCRIPTION:Family Health Festivals are free events that connect the community to local health and community resources\, all in an effort to make small steps to a healthier life for all. Health insurance is an important part in staying healthy\, stop by the Nevada Health Link booth to learn about your Health Insurance Options.
URL:https://nevadahealthlink.com/event/family-health-festival-4/
LOCATION:Neil Road Recreation C…\, 3925 Neil Road\, Reno\, NV\, 89502
GEO:39.4883749;-119.7803381
X-APPLE-STRUCTURED-LOCATION;VALUE=URI;X-ADDRESS=Neil Road Recreation C… 3925 Neil Road Reno NV 89502;X-APPLE-RADIUS=500;X-TITLE=3925 Neil Road:geo:-119.7803381,39.4883749
END:VEVENT
BEGIN:VEVENT
DTSTART;TZID=America/Los_Angeles:20220505T183000
DTEND;TZID=America/Los_Angeles:20220505T210000
DTSTAMP:20260425T162048
CREATED:20220502T171210Z
LAST-MODIFIED:20220502T171243Z
UID:31045-1651775400-1651784400@nevadahealthlink.com
SUMMARY:Reno Aces Baseball Game
DESCRIPTION:Catch us in full swing at the Reno Aces game on May 5! Our Executive Director\, Ryan High\, will be throwing the first pitch for Corazones de Reno. Our team will be on-site to provide you with resources and information for your health care needs. Join us at the game: https://www.milb.com/reno/tickets/single-game-tickets.
URL:https://nevadahealthlink.com/event/reno-aces-baseball-game/2022-05-05/
LOCATION:Greater Nevada Field\, 250 Evans Ave\, Reno\, NV\, 89501\, United States
END:VEVENT
BEGIN:VEVENT
DTSTART;TZID=America/Los_Angeles:20220506T100000
DTEND;TZID=America/Los_Angeles:20220506T140000
DTSTAMP:20260425T162048
CREATED:20220314T175202Z
LAST-MODIFIED:20220314T175202Z
UID:30379-1651831200-1651845600@nevadahealthlink.com
SUMMARY:Senior Expo
DESCRIPTION:Free community events for older adults\, caregivers\, and their families. It is a day of fun\, prizes\, giveaways\, door prizes\, and live entertainment! Over 150 local vendors\, including Nevada Health Link\, are representing community resources\, senior healthcare\, housing\, financial and legal assistance\, end-of-life considerations\, travel and leisure\, volunteer\, and employment opportunities.
URL:https://nevadahealthlink.com/event/senior-expo-13/
LOCATION:Boulder Station Casino\, 4111 Boulder Hwy\, Las Vegas\, NV\, 89121\, United States
END:VEVENT
BEGIN:VEVENT
DTSTART;TZID=America/Los_Angeles:20220507T090000
DTEND;TZID=America/Los_Angeles:20220507T160000
DTSTAMP:20260425T162048
CREATED:20220502T171547Z
LAST-MODIFIED:20220502T174420Z
UID:31054-1651914000-1651939200@nevadahealthlink.com
SUMMARY:City of Henderson Art Festival
DESCRIPTION:Art Festival of Henderson showcases art from some of the region’s best artisans and features hours of live entertainment\, a chalk artwork competition and a children’s interactive arts district. Browse through artist boutiques that will include paintings\, pottery\, jewelry\, photography and much more on display and available for purchase. Make sure to stop by the Nevada Health Link booth for some goodies and to learn about your health insurance options.
URL:https://nevadahealthlink.com/event/city-of-henderson-art-festival/2022-05-07/
LOCATION:Water Street Plaza\, 240 S Water St\, Henderson\, NV\, 89015\, United States
END:VEVENT
BEGIN:VEVENT
DTSTART;TZID=America/Los_Angeles:20220507T090000
DTEND;TZID=America/Los_Angeles:20220507T200000
DTSTAMP:20260425T162048
CREATED:20220502T172313Z
LAST-MODIFIED:20220502T172313Z
UID:31060-1651914000-1651953600@nevadahealthlink.com
SUMMARY:Reno River Festival
DESCRIPTION:The Reno River Festival is an outdoor celebration in the heart of downtown Reno and the official kick-off to summer in Northern Nevada. Get outside for a weekend of music\, food\, shopping\, and thrills while helping a deserving non-profit! While exploring the beauty of downtown Reno make sure you stop by the Nevada Health Link book to learn about your health insurance options.
URL:https://nevadahealthlink.com/event/reno-river-festival-2/2022-05-07/
LOCATION:Wingfield Park\, 300 W. 1st St. \, Reno\, NV\, 89503\, United States
GEO:39.5249294;-119.8167962
X-APPLE-STRUCTURED-LOCATION;VALUE=URI;X-ADDRESS=Wingfield Park 300 W. 1st St.  Reno NV 89503 United States;X-APPLE-RADIUS=500;X-TITLE=300 W. 1st St.:geo:-119.8167962,39.5249294
END:VEVENT
BEGIN:VEVENT
DTSTART;TZID=America/Los_Angeles:20220508T140000
DTEND;TZID=America/Los_Angeles:20220508T210000
DTSTAMP:20260425T162048
CREATED:20220502T173053Z
LAST-MODIFIED:20220502T173053Z
UID:31064-1652018400-1652043600@nevadahealthlink.com
SUMMARY:Mexican Patriotic Committee - Cinco de Mayo Battle of Puebla
DESCRIPTION:Nevada Health Link is joining to Mexican Patriotic Committee to celebrate Cinco De Mayo. Stop by our booth and learn about affordable health insurance options for you and your family.
URL:https://nevadahealthlink.com/event/mexican-patriotic-committee-cinco-de-mayo-battle-of-puebla/
LOCATION:Sammy Davis Jr. Festiv…\, 720 Twin Lakes Drive\, Las Vegas\, NV\, 89107\, United States
GEO:36.1791621;-115.1879821
X-APPLE-STRUCTURED-LOCATION;VALUE=URI;X-ADDRESS=Sammy Davis Jr. Festiv… 720 Twin Lakes Drive Las Vegas NV 89107 United States;X-APPLE-RADIUS=500;X-TITLE=720 Twin Lakes Drive:geo:-115.1879821,36.1791621
END:VEVENT
BEGIN:VEVENT
DTSTART;TZID=America/Los_Angeles:20220512T080000
DTEND;TZID=America/Los_Angeles:20220512T120000
DTSTAMP:20260425T162048
CREATED:20220502T173550Z
LAST-MODIFIED:20220502T173550Z
UID:31066-1652342400-1652356800@nevadahealthlink.com
SUMMARY:Senior Celebration Event
DESCRIPTION:Nevada Health Link in person assisters will be at the Annual Senior Celebration Event at the Casino Fandango in Carson City\, NV. Come check it out and learn about the services available in your community\, enter to win raffle prizes\, and enjoy live entertainment!
URL:https://nevadahealthlink.com/event/senior-celebration-event/
LOCATION:Casino Fandango- Grand…\, 3800 S Carson St\, Carson City\, NV\, 89701\, United States
END:VEVENT
BEGIN:VEVENT
DTSTART;TZID=America/Los_Angeles:20220513T100000
DTEND;TZID=America/Los_Angeles:20220513T140000
DTSTAMP:20260425T162048
CREATED:20220314T180340Z
LAST-MODIFIED:20220314T180340Z
UID:30388-1652436000-1652450400@nevadahealthlink.com
SUMMARY:Senior Expo
DESCRIPTION:Free community events for older adults\, caregivers\, and their families. It is a day of fun\, prizes\, giveaways\, door prizes\, and live entertainment! Over 150 local vendors\, including Nevada Health Link\, are representing community resources\, senior healthcare\, housing\, financial and legal assistance\, end-of-life considerations\, travel and leisure\, volunteer\, and employment opportunities.
URL:https://nevadahealthlink.com/event/senior-expo-14/
LOCATION:Silverton Casino Hotel\, 3333 Blue Diamond Rd\, Las Vegas\, NV\, 89139\, United States
GEO:36.0412834;-115.1833103
X-APPLE-STRUCTURED-LOCATION;VALUE=URI;X-ADDRESS=Silverton Casino Hotel 3333 Blue Diamond Rd Las Vegas NV 89139 United States;X-APPLE-RADIUS=500;X-TITLE=3333 Blue Diamond Rd:geo:-115.1833103,36.0412834
END:VEVENT
BEGIN:VEVENT
DTSTART;TZID=America/Los_Angeles:20220514T100000
DTEND;TZID=America/Los_Angeles:20220514T130000
DTSTAMP:20260425T162048
CREATED:20220502T174747Z
LAST-MODIFIED:20220502T174747Z
UID:31077-1652522400-1652533200@nevadahealthlink.com
SUMMARY:Kickoff to Summer - Fernley
DESCRIPTION:Attention all parents! Mark your calendars! Our Kick off to Summer event is May 14th at the Fernley Teen Center. Come check out all the vendors that will be present\, all the cool field trips and summer camps that will be available this summer.
URL:https://nevadahealthlink.com/event/kickoff-to-summer-fernley/
LOCATION:Fernley Intermediate S…\, 320 Highway 95A\, Fernley\, NV\, 89408\, United States
END:VEVENT
BEGIN:VEVENT
DTSTART;TZID=America/Los_Angeles:20220519T160000
DTEND;TZID=America/Los_Angeles:20220519T190000
DTSTAMP:20260425T162048
CREATED:20220502T174132Z
LAST-MODIFIED:20220502T174132Z
UID:31069-1652976000-1652986800@nevadahealthlink.com
SUMMARY:Spare a Life - Donor Network West Fundraiser
DESCRIPTION:Join us on May 19\, 2022 at the National Bowling Stadium in Reno\, Nevada where we will team up to raise awareness about organ and tissue donation and honor the donors who have given the gift of life. Your support directly benefits northern Nevada by aiding in funding for education\, outreach and research. Visit the Nevada Health Link booth to find out information about your health insurance options.
URL:https://nevadahealthlink.com/event/spare-a-life-donor-network-west-fundraiser/
LOCATION:National Bowling Statdium\, 300 N Center Street\, Reno\, NV\, 89501\, United States
END:VEVENT
BEGIN:VEVENT
DTSTART;TZID=America/Los_Angeles:20220520T100000
DTEND;TZID=America/Los_Angeles:20220520T140000
DTSTAMP:20260425T162048
CREATED:20220314T180522Z
LAST-MODIFIED:20220314T180522Z
UID:30390-1653040800-1653055200@nevadahealthlink.com
SUMMARY:Senior Expo
DESCRIPTION:Free community events for older adults\, caregivers\, and their families. It is a day of fun\, prizes\, giveaways\, door prizes\, and live entertainment! Over 150 local vendors\, including Nevada Health Link\, are representing community resources\, senior healthcare\, housing\, financial and legal assistance\, end-of-life considerations\, travel and leisure\, volunteer\, and employment opportunities.
URL:https://nevadahealthlink.com/event/senior-expo-15/
LOCATION:Pahrump Nugget Casino\, 681 NV-160\, Pahrump\, NV\, 89048\, United States
END:VEVENT
BEGIN:VEVENT
DTSTART;TZID=America/Los_Angeles:20220521T100000
DTEND;TZID=America/Los_Angeles:20220521T160000
DTSTAMP:20260425T162048
CREATED:20220502T181134Z
LAST-MODIFIED:20220502T181238Z
UID:31085-1653127200-1653148800@nevadahealthlink.com
SUMMARY:22nd Annual Las Vegas Women's Health and Beauty Expo
DESCRIPTION:The 22nd Annual Las Vegas Women’s Health and Beauty Expo is a day dedicated to the specific needs of women and their families. Vendors will be on- site sampling and giving away thousands of products and services. This event represents all area of a woman’s life- style\, including: health\, beauty\, nutrition\, fashion\, arts and entertainment\, career and education. Plus\, it is a great place to find special one-of-a-kind gifts. Bring your friends and family and don’t forget to stop by the Nevada Health Link booth for some goodies and information about you health insurance options.
URL:https://nevadahealthlink.com/event/las-vegas-womens-health-beauty-expo/
LOCATION:Gold Coast Hotel &#038…\, 4000 W Flamingo Rd\, Las Vegas\, NV\, 89103\, United States
END:VEVENT
BEGIN:VEVENT
DTSTART;TZID=America/Los_Angeles:20220521T110000
DTEND;TZID=America/Los_Angeles:20220521T160000
DTSTAMP:20260425T162048
CREATED:20220502T175225Z
LAST-MODIFIED:20220502T175225Z
UID:31081-1653130800-1653148800@nevadahealthlink.com
SUMMARY:Africa Day 2022
DESCRIPTION:Come celebrate Africa Day with us! Its a FREE family friendly & community event! Celebrate Africa Day through the ultimate cultural experience in Las Vegas! Don’t forget to stop by our booth an say hello.
URL:https://nevadahealthlink.com/event/africa-day-2022/
LOCATION:Craig Ranch Park\, 628 W. Craig Rd.\, North Las Vegas\, NV\, 89032\, United States
GEO:36.2412893;-115.1495796
X-APPLE-STRUCTURED-LOCATION;VALUE=URI;X-ADDRESS=Craig Ranch Park 628 W. Craig Rd. North Las Vegas NV 89032 United States;X-APPLE-RADIUS=500;X-TITLE=628 W. Craig Rd.:geo:-115.1495796,36.2412893
END:VEVENT
BEGIN:VEVENT
DTSTART;TZID=America/Los_Angeles:20220527T100000
DTEND;TZID=America/Los_Angeles:20220527T140000
DTSTAMP:20260425T162048
CREATED:20220314T180741Z
LAST-MODIFIED:20220314T180741Z
UID:30393-1653645600-1653660000@nevadahealthlink.com
SUMMARY:Senior Expo
DESCRIPTION:Free community events for older adults\, caregivers\, and their families. It is a day of fun\, prizes\, giveaways\, door prizes\, and live entertainment! Over 150 local vendors\, including Nevada Health Link\, are representing community resources\, senior healthcare\, housing\, financial and legal assistance\, end-of-life considerations\, travel and leisure\, volunteer\, and employment opportunities.
URL:https://nevadahealthlink.com/event/senior-expo-16/
LOCATION:Virgin River Casino\, 100 E Pioneer Blvd\, Mesquite\, NV\, 89027\, United States
END:VEVENT
END:VCALENDAR