BEGIN:VCALENDAR
VERSION:2.0
PRODID:-//Nevada Health Link - Official Website - ECPv6.15.14//NONSGML v1.0//EN
CALSCALE:GREGORIAN
METHOD:PUBLISH
X-ORIGINAL-URL:https://nevadahealthlink.com
X-WR-CALDESC:Events for Nevada Health Link - Official Website
REFRESH-INTERVAL;VALUE=DURATION:PT1H
X-Robots-Tag:noindex
X-PUBLISHED-TTL:PT1H
BEGIN:VTIMEZONE
TZID:America/Los_Angeles
BEGIN:DAYLIGHT
TZOFFSETFROM:-0800
TZOFFSETTO:-0700
TZNAME:PDT
DTSTART:20230312T100000
END:DAYLIGHT
BEGIN:STANDARD
TZOFFSETFROM:-0700
TZOFFSETTO:-0800
TZNAME:PST
DTSTART:20231105T090000
END:STANDARD
BEGIN:DAYLIGHT
TZOFFSETFROM:-0800
TZOFFSETTO:-0700
TZNAME:PDT
DTSTART:20240310T100000
END:DAYLIGHT
BEGIN:STANDARD
TZOFFSETFROM:-0700
TZOFFSETTO:-0800
TZNAME:PST
DTSTART:20241103T090000
END:STANDARD
BEGIN:DAYLIGHT
TZOFFSETFROM:-0800
TZOFFSETTO:-0700
TZNAME:PDT
DTSTART:20250309T100000
END:DAYLIGHT
BEGIN:STANDARD
TZOFFSETFROM:-0700
TZOFFSETTO:-0800
TZNAME:PST
DTSTART:20251102T090000
END:STANDARD
END:VTIMEZONE
BEGIN:VEVENT
DTSTART;TZID=America/Los_Angeles:20240302T090000
DTEND;TZID=America/Los_Angeles:20240302T150000
DTSTAMP:20260423T193818
CREATED:20240221T210100Z
LAST-MODIFIED:20240221T210100Z
UID:36169-1709370000-1709391600@nevadahealthlink.com
SUMMARY:Las Vegas Review-Journal Aging Wellness Expo
DESCRIPTION:This day-long event\, the largest of its kind in Nevada\, features vital information on living life to the fullest after 50 and showcases hundreds of local and national companies re-imagining aging. The Aging Wellness Expo features top experts covering various topics like career\, fitness\, financial planning advice\, health and wellness\, dating\, retirement\, and more. Come visit our team! \n  \n  \n \n 
URL:https://nevadahealthlink.com/event/las-vegas-review-journal-aging-wellness-expo-2/
LOCATION:South Point Hotel Casi…\, 9777 S Las Vegas Blvd\, Las Vegas\, NV\, 89183\, United States
END:VEVENT
BEGIN:VEVENT
DTSTART;TZID=America/Los_Angeles:20240308T090000
DTEND;TZID=America/Los_Angeles:20240308T140000
DTSTAMP:20260423T193818
CREATED:20240305T223452Z
LAST-MODIFIED:20240305T223452Z
UID:36201-1709888400-1709906400@nevadahealthlink.com
SUMMARY:2024 Spring Job Fair
DESCRIPTION:Get ready for the 2024 Spring Job Fair!\n\n\nMore than 120 employers are ready to meet face-to-face with thousands of job seekers striving for more in  during Southern Nevada’s largest annual Spring Job Fair. Come stop by  our table and say hello.
URL:https://nevadahealthlink.com/event/2024-spring-job-fair/
LOCATION:Las Vegas Convention C…\, 300 Convention Center Dr\, Las Vegas\, NV\, 89109\, United States
END:VEVENT
BEGIN:VEVENT
DTSTART;TZID=America/Los_Angeles:20240309T100000
DTEND;TZID=America/Los_Angeles:20240309T150000
DTSTAMP:20260423T193818
CREATED:20240201T170517Z
LAST-MODIFIED:20240214T230813Z
UID:36073-1709978400-1709996400@nevadahealthlink.com
SUMMARY:Women's Day Out Expo
DESCRIPTION:The Women’s Day Out Expo invites you to join us during our current event tour. Come say hello to NVHL team! \n 
URL:https://nevadahealthlink.com/event/36073/
LOCATION:Gold Coast Hotel &#038…\, 4000 W Flamingo Rd\, Las Vegas\, NV\, 89103\, United States
END:VEVENT
BEGIN:VEVENT
DTSTART;TZID=America/Los_Angeles:20240309T110000
DTEND;TZID=America/Los_Angeles:20240309T150000
DTSTAMP:20260423T193818
CREATED:20240306T002320Z
LAST-MODIFIED:20240306T002320Z
UID:36205-1709982000-1709996400@nevadahealthlink.com
SUMMARY:International Women's Day Health\, Education\, Resource Fair & Expo
DESCRIPTION:Come celebrate with us and stop by our table to get more info on health insurance! \nThere will be Inspirational Speakers\, Community Resources\, Fun Children’s Activities\, Live Music\, Giveaways & Prizes\, Free Health Screenings\, Cultural Performances\, Workshops & Seminars & Food Trucks. \n  \n       \n  \n 
URL:https://nevadahealthlink.com/event/international-womens-day-health-education-resource-fair-expo/
LOCATION:East Las Vegas Communi…\, 250 N Eastern Ave\, Las Vegas\, NV\, 89101\, United States
END:VEVENT
BEGIN:VEVENT
DTSTART;TZID=America/Los_Angeles:20240314T100000
DTEND;TZID=America/Los_Angeles:20240314T120000
DTSTAMP:20260423T193818
CREATED:20240308T213012Z
LAST-MODIFIED:20240308T213012Z
UID:36221-1710410400-1710417600@nevadahealthlink.com
SUMMARY:FBNN Mobile Harvest
DESCRIPTION:Access to nutritious\, healthful food is vital for the community members we serve. The Food Bank’s Mobile Harvest program is a great way to make sure that your family has access to healthy\, fresh fruits and vegetables. Come join us for more info on health insurance. \n  \nEl acceso a alimentos nutritivos y saludables es vital para los miembros de la comunidad a los que servimos. El programa Mobile Harvest del Banco de Alimentos es una excelente manera de asegurarse de que su familia tenga acceso a frutas y verduras frescas y saludables. Ven a visitarnos y obtén más información sobre seguros médicos. \n  \nPlease arrive at least 15 minutes prior to the end of distribution. \nPlease remember to bring your own bags for us to pack your selected items into.  We cannot guarantee that we will have bags available for those who don’t have their own. \nLlegue al menos 15 minutos antes del final de la distribución. \nRecuerde traer sus propias bolsas para que empaquemos los artículos seleccionados. No podemos garantizar que tendremos bolsas disponibles para aquellos que no tienen las suyas. \n  \n   
URL:https://nevadahealthlink.com/event/fbnn-mobile-harvest-6/
LOCATION:Cold Springs Middle Sc…\, 18235 Cody Ct\, Reno\, NV\, 89508\, United States
END:VEVENT
BEGIN:VEVENT
DTSTART;TZID=America/Los_Angeles:20240320T090000
DTEND;TZID=America/Los_Angeles:20240320T110000
DTSTAMP:20260423T193818
CREATED:20240305T221800Z
LAST-MODIFIED:20240305T221800Z
UID:36197-1710925200-1710932400@nevadahealthlink.com
SUMMARY:FBNN Mobile Harvest
DESCRIPTION:Access to nutritious\, healthful food is vital for the community members we serve. The Food Bank’s Mobile Harvest program is a great way to make sure that your family has access to healthy\, fresh fruits and vegetables. Come join us for more info on health insurance. \n  \nEl acceso a alimentos nutritivos y saludables es vital para los miembros de la comunidad a los que servimos. El programa Mobile Harvest del Banco de Alimentos es una excelente manera de asegurarse de que su familia tenga acceso a frutas y verduras frescas y saludables. Ven a visitarnos y obtén más información sobre seguros médicos. \n  \nPlease arrive at least 15 minutes prior to the end of distribution. \nPlease remember to bring your own bags for us to pack your selected items into.  We cannot guarantee that we will have bags available for those who don’t have their own. \nLlegue al menos 15 minutos antes del final de la distribución. \nRecuerde traer sus propias bolsas para que empaquemos los artículos seleccionados. No podemos garantizar que tendremos bolsas disponibles para aquellos que no tienen las suyas. \n 
URL:https://nevadahealthlink.com/event/fbnn-mobile-harvest-5/
LOCATION:Baldini’s Sports…\, 865 S Rock Blvd\, Sparks\, NV\, 89431\, United States
END:VEVENT
BEGIN:VEVENT
DTSTART;TZID=America/Los_Angeles:20240323T100000
DTEND;TZID=America/Los_Angeles:20240323T150000
DTSTAMP:20260423T193818
CREATED:20240305T223745Z
LAST-MODIFIED:20240305T223745Z
UID:36175-1711188000-1711206000@nevadahealthlink.com
SUMMARY:2024 Injured Police Officers Fund Classic Car and Emergency Vehicle Show
DESCRIPTION:It’s that time of year! You are invited to the 2024 Injured Police Officers Fund Classic Car and Emergency Vehicle Show. Come and enjoy live music\, raffles\, and great food. Don’t forget to stop by and say hello to our team. \n 
URL:https://nevadahealthlink.com/event/2024-injured-police-officers-fund-classic-car-and-emergency-vehicle-show/
LOCATION:Veterans Memorial Park\, 1650 Buchanan Blvd\, Boulder City\, NV\, 89005\, United States
END:VEVENT
BEGIN:VEVENT
DTSTART;TZID=America/Los_Angeles:20240323T100000
DTEND;TZID=America/Los_Angeles:20240323T220000
DTSTAMP:20260423T193818
CREATED:20240212T214038Z
LAST-MODIFIED:20240212T214038Z
UID:36118-1711188000-1711231200@nevadahealthlink.com
SUMMARY:Clark County Parks & Recreation Presents Tacos & Tamales
DESCRIPTION:Join us for two unforgettable days filled with mouthwatering tacos\,  and savory tamales. This culinary adventure is not just an event; it’s a culinary journey that promises to tantalize your taste buds and immerse you in a world of festive delights. Discover new favorites and elevate your tasting experience. The Tacos and Tamales Festival is not just for food enthusiasts; it’s a family affair! Enjoy a weekend filled with lively entertainment\, including live music\, Lucha Libre\, artistry\, and a carnival! This culinary fiesta is open to all ages\, with special activities and areas dedicated to family fun. Save the dates and get ready for a weekend filled with food\, drinks\, and entertainment that will leave you craving for more. ¡Viva la Fiesta! Come stop by and say hello to our Nevada Health Link Team! \n 
URL:https://nevadahealthlink.com/event/clark-county-parks-recreation-presents-tacos-tamales/
LOCATION:Desert Breeze Park\, 8275 Spring Mountain Rd.\, Las Vegas\, NV\, 89147\, United States
END:VEVENT
BEGIN:VEVENT
DTSTART;TZID=America/Los_Angeles:20240324T100000
DTEND;TZID=America/Los_Angeles:20240324T180000
DTSTAMP:20260423T193818
CREATED:20240212T214155Z
LAST-MODIFIED:20240214T231010Z
UID:36121-1711274400-1711303200@nevadahealthlink.com
SUMMARY:Clark County Parks & Recreation Presents Tacos & Tamales
DESCRIPTION:Join us for two unforgettable days filled with mouthwatering tacos\,  and savory tamales. This culinary adventure is not just an event; it’s a culinary journey that promises to tantalize your taste buds and immerse you in a world of festive delights. Discover new favorites and elevate your tasting experience. The Tacos and Tamales Festival is not just for food enthusiasts; it’s a family affair! Enjoy a weekend filled with lively entertainment\, including live music\, Lucha Libre\, artistry\, and a carnival! This culinary fiesta is open to all ages\, with special activities and areas dedicated to family fun. Save the dates and get ready for a weekend filled with food\, drinks\, and entertainment that will leave you craving for more. ¡Viva la Fiesta! Come stop by and say hello to our Nevada Health Link Team! \n 
URL:https://nevadahealthlink.com/event/36121/
LOCATION:Desert Breeze Park\, 8275 Spring Mountain Rd.\, Las Vegas\, NV\, 89147\, United States
END:VEVENT
BEGIN:VEVENT
DTSTART;TZID=America/Los_Angeles:20240326T163000
DTEND;TZID=America/Los_Angeles:20240326T183000
DTSTAMP:20260423T193818
CREATED:20240326T201830Z
LAST-MODIFIED:20240326T201830Z
UID:36359-1711470600-1711477800@nevadahealthlink.com
SUMMARY:Spring Eggstravaganza
DESCRIPTION:It’s going to be an unforgettable event for the whole family! Come join our team and visit our table! \nThere will be Egg Hunt\, Food\, Music\, Games\, Bounce Houses & Fun \nBring a Basket! Egg Hunt Begins At 5:00PM \nThis is a Smoke-Free and Vape-Free Event! \n     \n 
URL:https://nevadahealthlink.com/event/spring-eggstravaganza/
LOCATION:Mater Academy\, 3900 E. Bonanza Rd.\, Las Vegas\, NV\, 89110\, United States
END:VEVENT
BEGIN:VEVENT
DTSTART;TZID=America/Los_Angeles:20240327T090000
DTEND;TZID=America/Los_Angeles:20240327T110000
DTSTAMP:20260423T193818
CREATED:20240309T000933Z
LAST-MODIFIED:20240309T000933Z
UID:36226-1711530000-1711537200@nevadahealthlink.com
SUMMARY:FBNN Mobile Harvest
DESCRIPTION:Access to nutritious\, healthful food is vital for the community members we serve. The Food Bank’s Mobile Harvest program is a great way to make sure that your family has access to healthy\, fresh fruits and vegetables. Come join us for more info on health insurance. \n  \nEl acceso a alimentos nutritivos y saludables es vital para los miembros de la comunidad a los que servimos. El programa Mobile Harvest del Banco de Alimentos es una excelente manera de asegurarse de que su familia tenga acceso a frutas y verduras frescas y saludables. Ven a visitarnos y obtén más información sobre seguros médicos. \n  \nPlease arrive at least 15 minutes prior to the end of distribution. \nPlease remember to bring your own bags for us to pack your selected items into.  We cannot guarantee that we will have bags available for those who don’t have their own. \nLlegue al menos 15 minutos antes del final de la distribución. \nRecuerde traer sus propias bolsas para que empaquemos los artículos seleccionados. No podemos garantizar que tendremos bolsas disponibles para aquellos que no tienen las suyas. \n  \n             \n 
URL:https://nevadahealthlink.com/event/fbnn-mobile-harvest-7/
LOCATION:Neil Road Recreation C…\, 3925 Neil Road\, Reno\, NV\, 89502
GEO:39.4883749;-119.7803381
X-APPLE-STRUCTURED-LOCATION;VALUE=URI;X-ADDRESS=Neil Road Recreation C… 3925 Neil Road Reno NV 89502;X-APPLE-RADIUS=500;X-TITLE=3925 Neil Road:geo:-119.7803381,39.4883749
END:VEVENT
BEGIN:VEVENT
DTSTART;TZID=America/Los_Angeles:20240328T090000
DTEND;TZID=America/Los_Angeles:20240328T103000
DTSTAMP:20260423T193818
CREATED:20240309T001600Z
LAST-MODIFIED:20240309T001600Z
UID:36230-1711616400-1711621800@nevadahealthlink.com
SUMMARY:FBNN Mobile Harvest
DESCRIPTION:Access to nutritious\, healthful food is vital for the community members we serve. The Food Bank’s Mobile Harvest program is a great way to make sure that your family has access to healthy\, fresh fruits and vegetables. Come join us for more info on health insurance. \n  \nEl acceso a alimentos nutritivos y saludables es vital para los miembros de la comunidad a los que servimos. El programa Mobile Harvest del Banco de Alimentos es una excelente manera de asegurarse de que su familia tenga acceso a frutas y verduras frescas y saludables. Ven a visitarnos y obtén más información sobre seguros médicos. \n  \nPlease arrive at least 15 minutes prior to the end of distribution. \nPlease remember to bring your own bags for us to pack your selected items into.  We cannot guarantee that we will have bags available for those who don’t have their own. \nLlegue al menos 15 minutos antes del final de la distribución. \nRecuerde traer sus propias bolsas para que empaquemos los artículos seleccionados. No podemos garantizar que tendremos bolsas disponibles para aquellos que no tienen las suyas. \n  \n             \n 
URL:https://nevadahealthlink.com/event/fbnn-mobile-harvest-8/
LOCATION:Echo Loder Elementary …\, 600 Apple St\, Reno\, NV\, 89502\, United States
END:VEVENT
BEGIN:VEVENT
DTSTART;TZID=America/Los_Angeles:20240329T100000
DTEND;TZID=America/Los_Angeles:20240329T130000
DTSTAMP:20260423T193818
CREATED:20240227T170827Z
LAST-MODIFIED:20240227T191437Z
UID:36179-1711706400-1711717200@nevadahealthlink.com
SUMMARY:LivingWell Senior Expo
DESCRIPTION:Our free senior expo is committed to providing our community’s most valuable resource\, it’s seniors\, with the tools they need to stay informed and lead healthy\, happy lives. \nNot just for seniors\, caregivers and family members will also enjoy the day! Come visit us at our table! \n 
URL:https://nevadahealthlink.com/event/livingwell-senior-expo/
LOCATION:Durango Hills YMCA\, 3521 N Durango Dr\, Las Vegas\, NV\, 89129\, United States
END:VEVENT
BEGIN:VEVENT
DTSTART;TZID=America/Los_Angeles:20240330T090000
DTEND;TZID=America/Los_Angeles:20240330T130000
DTSTAMP:20260423T193818
CREATED:20240212T215853Z
LAST-MODIFIED:20240326T194156Z
UID:36123-1711789200-1711803600@nevadahealthlink.com
SUMMARY:Spring Carnival & Hippity Hoppity Egg
DESCRIPTION:Come down to the Ranch and celebrate Spring at Henderson’s annual Spring Carnival! The carnival is packed with fun\, perfect for the whole family. Enjoy a live DJ\, carnival games\, bounce houses\, food trucks\, face painting\, refreshments and so much more! Stop by and talk to our Nevada Health Link team! \n 
URL:https://nevadahealthlink.com/event/36123/
LOCATION:Whitney Ranch Recreati…\, 1575 Galleria Dr.\, Henderson\, NV\, 89014\, United States
END:VEVENT
BEGIN:VEVENT
DTSTART;TZID=America/Los_Angeles:20240330T100000
DTEND;TZID=America/Los_Angeles:20240330T140000
DTSTAMP:20260423T193818
CREATED:20240311T214744Z
LAST-MODIFIED:20240311T214853Z
UID:36183-1711792800-1711807200@nevadahealthlink.com
SUMMARY:Family Spring Fling Pet Day and Classic Car Show
DESCRIPTION:Join us for a day filled with pet-friendly activities! Take part in a paw-rade & contest featuring local nonprofits and community vendors. Discover fostering opportunities for families looking to open their hearts and homes to children in need. \nEnjoy a classic car show\, arts and crafts fair\, food trucks\, jump house\, a live DJ and more. Don’t forget to stop by our table and get more info on health insurance!
URL:https://nevadahealthlink.com/event/spring-fling-and-car-show/
LOCATION:Floyd Lamb Park at Tul…\, 9100 Tule Spring Rd.\, Las Vegas\, NV\, 89131\, United States
GEO:36.3209603;-115.2699636
X-APPLE-STRUCTURED-LOCATION;VALUE=URI;X-ADDRESS=Floyd Lamb Park at Tul… 9100 Tule Spring Rd. Las Vegas NV 89131 United States;X-APPLE-RADIUS=500;X-TITLE=9100 Tule Spring Rd.:geo:-115.2699636,36.3209603
END:VEVENT
BEGIN:VEVENT
DTSTART;TZID=America/Los_Angeles:20240330T110000
DTEND;TZID=America/Los_Angeles:20240330T150000
DTSTAMP:20260423T193818
CREATED:20240326T200731Z
LAST-MODIFIED:20240326T200731Z
UID:36355-1711796400-1711810800@nevadahealthlink.com
SUMMARY:Inaugural Veteran & Family Resource Fair
DESCRIPTION:Free Admission – Bring your family \nIn Appreciation of all you’ve done to protect our freedom.  Come stop by and say hello to our team and get more information on health insurance! \n 
URL:https://nevadahealthlink.com/event/inaugural-veteran-family-resource-fair/
LOCATION:Veterans & Commun…\, 3090 E Centennial Pkwy\, North Las Vegas\, NV\, 89081\, United States
END:VEVENT
END:VCALENDAR