BEGIN:VCALENDAR
VERSION:2.0
PRODID:-//Nevada Health Link - Official Website - ECPv6.15.14//NONSGML v1.0//EN
CALSCALE:GREGORIAN
METHOD:PUBLISH
X-WR-CALNAME:Nevada Health Link - Official Website
X-ORIGINAL-URL:https://nevadahealthlink.com
X-WR-CALDESC:Events for Nevada Health Link - Official Website
REFRESH-INTERVAL;VALUE=DURATION:PT1H
X-Robots-Tag:noindex
X-PUBLISHED-TTL:PT1H
BEGIN:VTIMEZONE
TZID:America/Los_Angeles
BEGIN:DAYLIGHT
TZOFFSETFROM:-0800
TZOFFSETTO:-0700
TZNAME:PDT
DTSTART:20160313T100000
END:DAYLIGHT
BEGIN:STANDARD
TZOFFSETFROM:-0700
TZOFFSETTO:-0800
TZNAME:PST
DTSTART:20161106T090000
END:STANDARD
BEGIN:DAYLIGHT
TZOFFSETFROM:-0800
TZOFFSETTO:-0700
TZNAME:PDT
DTSTART:20170312T100000
END:DAYLIGHT
BEGIN:STANDARD
TZOFFSETFROM:-0700
TZOFFSETTO:-0800
TZNAME:PST
DTSTART:20171105T090000
END:STANDARD
BEGIN:DAYLIGHT
TZOFFSETFROM:-0800
TZOFFSETTO:-0700
TZNAME:PDT
DTSTART:20180311T100000
END:DAYLIGHT
BEGIN:STANDARD
TZOFFSETFROM:-0700
TZOFFSETTO:-0800
TZNAME:PST
DTSTART:20181104T090000
END:STANDARD
END:VTIMEZONE
BEGIN:VEVENT
DTSTART;TZID=America/Los_Angeles:20170429T100000
DTEND;TZID=America/Los_Angeles:20170429T160000
DTSTAMP:20260420T044806
CREATED:20170309T222046Z
LAST-MODIFIED:20170309T222046Z
UID:16338-1493460000-1493481600@nevadahealthlink.com
SUMMARY:Kids on Big Rigs
DESCRIPTION:Come visit the Nevada Health Link booth to find out information about your health insurance options.\nBring the whole family to Kids on BIg Rigs 2017. Kids and parents get to LOOK\, TOUCH\, & EXPLORE many different Big Rigs. For more information click here.
URL:https://nevadahealthlink.com/event/kids-on-big-rigs/
LOCATION:2272 Larkin Cir\, Sparks\, NV 89431-6500\, United States\, 2272 Larkin Circle\, Sparks\, NV\, 89431\, United States
END:VEVENT
END:VCALENDAR