BEGIN:VCALENDAR
VERSION:2.0
PRODID:-//Nevada Health Link - Official Website - ECPv6.15.14//NONSGML v1.0//EN
CALSCALE:GREGORIAN
METHOD:PUBLISH
X-ORIGINAL-URL:https://nevadahealthlink.com
X-WR-CALDESC:Events for Nevada Health Link - Official Website
REFRESH-INTERVAL;VALUE=DURATION:PT1H
X-Robots-Tag:noindex
X-PUBLISHED-TTL:PT1H
BEGIN:VTIMEZONE
TZID:America/Los_Angeles
BEGIN:DAYLIGHT
TZOFFSETFROM:-0800
TZOFFSETTO:-0700
TZNAME:PDT
DTSTART:20250309T100000
END:DAYLIGHT
BEGIN:STANDARD
TZOFFSETFROM:-0700
TZOFFSETTO:-0800
TZNAME:PST
DTSTART:20251102T090000
END:STANDARD
BEGIN:DAYLIGHT
TZOFFSETFROM:-0800
TZOFFSETTO:-0700
TZNAME:PDT
DTSTART:20260308T100000
END:DAYLIGHT
BEGIN:STANDARD
TZOFFSETFROM:-0700
TZOFFSETTO:-0800
TZNAME:PST
DTSTART:20261101T090000
END:STANDARD
BEGIN:DAYLIGHT
TZOFFSETFROM:-0800
TZOFFSETTO:-0700
TZNAME:PDT
DTSTART:20270314T100000
END:DAYLIGHT
BEGIN:STANDARD
TZOFFSETFROM:-0700
TZOFFSETTO:-0800
TZNAME:PST
DTSTART:20271107T090000
END:STANDARD
END:VTIMEZONE
BEGIN:VEVENT
DTSTART;TZID=America/Los_Angeles:20260415T100000
DTEND;TZID=America/Los_Angeles:20260415T120000
DTSTAMP:20260422T023306
CREATED:20260409T204156Z
LAST-MODIFIED:20260409T204156Z
UID:42072-1776247200-1776254400@nevadahealthlink.com
SUMMARY:CCSD Adult Education Community Resource Fair
DESCRIPTION:Discover support for healthcare\, housing\, employment\, food & more. Come connect with local agencies\, explore helpful resources\, and see what is available for you! \nCome visit our team and get more information about Nevada Health Link! \n  \nDescubre apoyo para la salud\, vivienda\, empleo\, alimentos y más. ¡Conectate con agencias locales\, explora recursos útiles y descubre lo que está disponible para ti! \n¡Ven a visitar a nuestro equipo y obtén más información sobre Nevada Health Link! \n  \n 
URL:https://nevadahealthlink.com/event/ccsd-adult-education-community-resource-fair/
LOCATION:Adult Education’s St. Louis Campus\, 2701 E. St. Louis Ave.\, Las Vegas\, NV\, 89104\, United States
END:VEVENT
BEGIN:VEVENT
DTSTART;TZID=America/Los_Angeles:20260211T100000
DTEND;TZID=America/Los_Angeles:20260211T120000
DTSTAMP:20260422T023306
CREATED:20260204T185300Z
LAST-MODIFIED:20260204T185300Z
UID:41659-1770804000-1770811200@nevadahealthlink.com
SUMMARY:Community Resource Fair hosted by CCSD Adult Education Programs
DESCRIPTION:Discover support for healthcare\, housing\, employment\, food & more. Come connect with local agencies\, explore helpful resources\, and see what is available for you! \nCome visit our team and get more information about Nevada Health Link! \n  \nDescubre apoyo para la salud\, vivienda\, empleo\, alimentos y más. ¡Conectate con agencias locales\, explora recursos útiles y descubre lo que está disponible para ti! \n¡Ven a visitar a nuestro equipo y obtén más información sobre Nevada Health Link! \n 
URL:https://nevadahealthlink.com/event/community-resource-fair-hosted-by-ccsd-adult-education-programs/
LOCATION:Adult Education’s St. Louis Campus\, 2701 E. St. Louis Ave.\, Las Vegas\, NV\, 89104\, United States
END:VEVENT
END:VCALENDAR