BEGIN:VCALENDAR
VERSION:2.0
PRODID:-//Nevada Health Link - Official Website - ECPv6.15.14//NONSGML v1.0//EN
CALSCALE:GREGORIAN
METHOD:PUBLISH
X-ORIGINAL-URL:https://nevadahealthlink.com
X-WR-CALDESC:Events for Nevada Health Link - Official Website
REFRESH-INTERVAL;VALUE=DURATION:PT1H
X-Robots-Tag:noindex
X-PUBLISHED-TTL:PT1H
BEGIN:VTIMEZONE
TZID:America/Los_Angeles
BEGIN:DAYLIGHT
TZOFFSETFROM:-0800
TZOFFSETTO:-0700
TZNAME:PDT
DTSTART:20160313T100000
END:DAYLIGHT
BEGIN:STANDARD
TZOFFSETFROM:-0700
TZOFFSETTO:-0800
TZNAME:PST
DTSTART:20161106T090000
END:STANDARD
BEGIN:DAYLIGHT
TZOFFSETFROM:-0800
TZOFFSETTO:-0700
TZNAME:PDT
DTSTART:20170312T100000
END:DAYLIGHT
BEGIN:STANDARD
TZOFFSETFROM:-0700
TZOFFSETTO:-0800
TZNAME:PST
DTSTART:20171105T090000
END:STANDARD
BEGIN:DAYLIGHT
TZOFFSETFROM:-0800
TZOFFSETTO:-0700
TZNAME:PDT
DTSTART:20180311T100000
END:DAYLIGHT
BEGIN:STANDARD
TZOFFSETFROM:-0700
TZOFFSETTO:-0800
TZNAME:PST
DTSTART:20181104T090000
END:STANDARD
END:VTIMEZONE
BEGIN:VEVENT
DTSTART;TZID=America/Los_Angeles:20170506T100000
DTEND;TZID=America/Los_Angeles:20170506T140000
DTSTAMP:20260420T033024
CREATED:20170425T203240Z
LAST-MODIFIED:20170425T203240Z
UID:16604-1494064800-1494079200@nevadahealthlink.com
SUMMARY:Washoe Tribe Earth Day
DESCRIPTION:Come visit the Nevada Health Link booth to find out information about your health insurance options.\nWashoe Tribe Earth Day Poster 2017
URL:https://nevadahealthlink.com/event/washoe-tribe-earth-day/
LOCATION:Carson Colony Gymnasium\, 2900 S. Curry St.\, Carson City\, NV\, 89703\, United States
GEO:39.1406081;-119.7705744
X-APPLE-STRUCTURED-LOCATION;VALUE=URI;X-ADDRESS=Carson Colony Gymnasium 2900 S. Curry St. Carson City NV 89703 United States;X-APPLE-RADIUS=500;X-TITLE=2900 S. Curry St.:geo:-119.7705744,39.1406081
END:VEVENT
END:VCALENDAR