BEGIN:VCALENDAR
VERSION:2.0
PRODID:-//Nevada Health Link - Official Website - ECPv6.15.14//NONSGML v1.0//EN
CALSCALE:GREGORIAN
METHOD:PUBLISH
X-ORIGINAL-URL:https://nevadahealthlink.com
X-WR-CALDESC:Events for Nevada Health Link - Official Website
REFRESH-INTERVAL;VALUE=DURATION:PT1H
X-Robots-Tag:noindex
X-PUBLISHED-TTL:PT1H
BEGIN:VTIMEZONE
TZID:America/Los_Angeles
BEGIN:DAYLIGHT
TZOFFSETFROM:-0800
TZOFFSETTO:-0700
TZNAME:PDT
DTSTART:20240310T100000
END:DAYLIGHT
BEGIN:STANDARD
TZOFFSETFROM:-0700
TZOFFSETTO:-0800
TZNAME:PST
DTSTART:20241103T090000
END:STANDARD
BEGIN:DAYLIGHT
TZOFFSETFROM:-0800
TZOFFSETTO:-0700
TZNAME:PDT
DTSTART:20250309T100000
END:DAYLIGHT
BEGIN:STANDARD
TZOFFSETFROM:-0700
TZOFFSETTO:-0800
TZNAME:PST
DTSTART:20251102T090000
END:STANDARD
BEGIN:DAYLIGHT
TZOFFSETFROM:-0800
TZOFFSETTO:-0700
TZNAME:PDT
DTSTART:20260308T100000
END:DAYLIGHT
BEGIN:STANDARD
TZOFFSETFROM:-0700
TZOFFSETTO:-0800
TZNAME:PST
DTSTART:20261101T090000
END:STANDARD
END:VTIMEZONE
BEGIN:VEVENT
DTSTART;TZID=America/Los_Angeles:20251029T160000
DTEND;TZID=America/Los_Angeles:20251029T193000
DTSTAMP:20260421T104615
CREATED:20251029T233814Z
LAST-MODIFIED:20251029T233814Z
UID:40847-1761753600-1761766200@nevadahealthlink.com
SUMMARY:Haunted Harvest
DESCRIPTION:Play detective at this year’s Haunted Harvest on Wednesday\, Oct. 29\, 4-7 p.m. at the Centennial Hills Library! Guests can take part in a “who done it” mystery and enjoy a haunted conservatory maze\, creepy crafts\, a ghostly movie\, trunk-or-treating and face painting. \nDress in your best detective or Victorian attire for the hunt—or simply wear your favorite Halloween costume. We’ll be there with a decorated trunk and candy! For more information\, call 702.507.6100. \n\nDon’t forget to stop by our Nevada Health Link spot and get more information about health insurance coverage!\nOpen enrollment starts November 1st through January 15th!
URL:https://nevadahealthlink.com/event/haunted-harvest-8/
LOCATION:Centennial Hills Library\, 6711 N. Buffalo Dr.\, Las Vegas\, NV\, 89131\, United States
END:VEVENT
END:VCALENDAR