BEGIN:VCALENDAR
VERSION:2.0
PRODID:-//Nevada Health Link - Official Website - ECPv6.15.14//NONSGML v1.0//EN
CALSCALE:GREGORIAN
METHOD:PUBLISH
X-WR-CALNAME:Nevada Health Link - Official Website
X-ORIGINAL-URL:https://nevadahealthlink.com
X-WR-CALDESC:Events for Nevada Health Link - Official Website
REFRESH-INTERVAL;VALUE=DURATION:PT1H
X-Robots-Tag:noindex
X-PUBLISHED-TTL:PT1H
BEGIN:VTIMEZONE
TZID:America/Los_Angeles
BEGIN:DAYLIGHT
TZOFFSETFROM:-0800
TZOFFSETTO:-0700
TZNAME:PDT
DTSTART:20250309T100000
END:DAYLIGHT
BEGIN:STANDARD
TZOFFSETFROM:-0700
TZOFFSETTO:-0800
TZNAME:PST
DTSTART:20251102T090000
END:STANDARD
BEGIN:DAYLIGHT
TZOFFSETFROM:-0800
TZOFFSETTO:-0700
TZNAME:PDT
DTSTART:20260308T100000
END:DAYLIGHT
BEGIN:STANDARD
TZOFFSETFROM:-0700
TZOFFSETTO:-0800
TZNAME:PST
DTSTART:20261101T090000
END:STANDARD
BEGIN:DAYLIGHT
TZOFFSETFROM:-0800
TZOFFSETTO:-0700
TZNAME:PDT
DTSTART:20270314T100000
END:DAYLIGHT
BEGIN:STANDARD
TZOFFSETFROM:-0700
TZOFFSETTO:-0800
TZNAME:PST
DTSTART:20271107T090000
END:STANDARD
END:VTIMEZONE
BEGIN:VEVENT
DTSTART;TZID=America/Los_Angeles:20260404T100000
DTEND;TZID=America/Los_Angeles:20260404T150000
DTSTAMP:20260421T114427
CREATED:20260310T225618Z
LAST-MODIFIED:20260310T225618Z
UID:41803-1775296800-1775314800@nevadahealthlink.com
SUMMARY:Diva's Day Out
DESCRIPTION:Bringing Divas Back to What It Was — a Celebration of YOU! \nLadies\, mark your calendars. Divas’ Day Out returns to Grand Sierra Resort on Saturday\, April 4\, 2026\, starting at 10am — and it’s your time to shine. \nGet ready for a full day dedicated to everything YOU love. Enjoy shopping\, entertainment\, and all things women — from health\, fitness\, beauty\, fashion\, motherhood\, finance\, education\, career\, home life\, and so much more. \nIf you can dream it… it’ll be there! And yes\, we’re bringing back the crowd favorites: amazing giveaways\, fashion shows\, Divas Las Vegas\, and Thunder from Down Under. \nDiva’s Day Out tickets include parking\, giveaways\, entertainment and lots of fun for attendees 18 and over. \nDon’t forget to stop by our Nevada Health Link booth and get more information about health insurance coverage! \n 
URL:https://nevadahealthlink.com/event/divas-day-out-5/
LOCATION:Grand Sierra Resort – Silver State Pavilion\, 2500 E 2nd St\, Reno\, NV\, 89595\, United States
END:VEVENT
END:VCALENDAR