BEGIN:VCALENDAR
VERSION:2.0
PRODID:-//Nevada Health Link - Official Website - ECPv6.15.14//NONSGML v1.0//EN
CALSCALE:GREGORIAN
METHOD:PUBLISH
X-ORIGINAL-URL:https://nevadahealthlink.com
X-WR-CALDESC:Events for Nevada Health Link - Official Website
REFRESH-INTERVAL;VALUE=DURATION:PT1H
X-Robots-Tag:noindex
X-PUBLISHED-TTL:PT1H
BEGIN:VTIMEZONE
TZID:America/Los_Angeles
BEGIN:DAYLIGHT
TZOFFSETFROM:-0800
TZOFFSETTO:-0700
TZNAME:PDT
DTSTART:20250309T100000
END:DAYLIGHT
BEGIN:STANDARD
TZOFFSETFROM:-0700
TZOFFSETTO:-0800
TZNAME:PST
DTSTART:20251102T090000
END:STANDARD
BEGIN:DAYLIGHT
TZOFFSETFROM:-0800
TZOFFSETTO:-0700
TZNAME:PDT
DTSTART:20260308T100000
END:DAYLIGHT
BEGIN:STANDARD
TZOFFSETFROM:-0700
TZOFFSETTO:-0800
TZNAME:PST
DTSTART:20261101T090000
END:STANDARD
BEGIN:DAYLIGHT
TZOFFSETFROM:-0800
TZOFFSETTO:-0700
TZNAME:PDT
DTSTART:20270314T100000
END:DAYLIGHT
BEGIN:STANDARD
TZOFFSETFROM:-0700
TZOFFSETTO:-0800
TZNAME:PST
DTSTART:20271107T090000
END:STANDARD
END:VTIMEZONE
BEGIN:VEVENT
DTSTART;TZID=America/Los_Angeles:20260221T120000
DTEND;TZID=America/Los_Angeles:20260221T150000
DTSTAMP:20260421T232647
CREATED:20260127T195921Z
LAST-MODIFIED:20260127T195921Z
UID:41467-1771675200-1771686000@nevadahealthlink.com
SUMMARY:Love on Jackson Block Party
DESCRIPTION:Come celebrate the spirit of Jackson Avenue and the revitalization\nefforts through the HUNDRED Plan in Action.\n\nFree Food While Supplies Last • Live Entertainment\nLocal Businesses • Community Services • Youth Activities\nCar and Motorcycle Show • Farmers Market\n\nHISTORIC WESTSIDE\nJackson Avenue between D and F streets\n\nCome visit our team and get more information about Nevada Health Link!\n\nVenga a celebrar el espíritu de Jackson Avenue y los esfuerzos de\nrevitalización a través del Plan HUNDRED en Acción.\n\nComida Gratis Hasta Agotar Existencias • Entretenimiento en Vivo\nNegocios Locales • Proveedores de Servicios Comunitarios • Actividades\nJuveniles • Exposición de Coches y Motos • Mercado de Agricultores\n\nHISTORIC WESTSIDE\nJackson Avenue entre las calles D y F\n\n¡Ven a visitar a nuestro equipo y obtén más información sobre Nevada Health Link!\n\n 
URL:https://nevadahealthlink.com/event/love-on-jackson-block-party/
LOCATION:Jackson Avenue between D and F streets
END:VEVENT
END:VCALENDAR