BEGIN:VCALENDAR
VERSION:2.0
PRODID:-//Nevada Health Link - Official Website - ECPv6.15.14//NONSGML v1.0//EN
CALSCALE:GREGORIAN
METHOD:PUBLISH
X-ORIGINAL-URL:https://nevadahealthlink.com
X-WR-CALDESC:Events for Nevada Health Link - Official Website
REFRESH-INTERVAL;VALUE=DURATION:PT1H
X-Robots-Tag:noindex
X-PUBLISHED-TTL:PT1H
BEGIN:VTIMEZONE
TZID:America/Los_Angeles
BEGIN:DAYLIGHT
TZOFFSETFROM:-0800
TZOFFSETTO:-0700
TZNAME:PDT
DTSTART:20250309T100000
END:DAYLIGHT
BEGIN:STANDARD
TZOFFSETFROM:-0700
TZOFFSETTO:-0800
TZNAME:PST
DTSTART:20251102T090000
END:STANDARD
BEGIN:DAYLIGHT
TZOFFSETFROM:-0800
TZOFFSETTO:-0700
TZNAME:PDT
DTSTART:20260308T100000
END:DAYLIGHT
BEGIN:STANDARD
TZOFFSETFROM:-0700
TZOFFSETTO:-0800
TZNAME:PST
DTSTART:20261101T090000
END:STANDARD
BEGIN:DAYLIGHT
TZOFFSETFROM:-0800
TZOFFSETTO:-0700
TZNAME:PDT
DTSTART:20270314T100000
END:DAYLIGHT
BEGIN:STANDARD
TZOFFSETFROM:-0700
TZOFFSETTO:-0800
TZNAME:PST
DTSTART:20271107T090000
END:STANDARD
END:VTIMEZONE
BEGIN:VEVENT
DTSTART;TZID=America/Los_Angeles:20260228T130000
DTEND;TZID=America/Los_Angeles:20260228T210000
DTSTAMP:20260421T232552
CREATED:20260129T214401Z
LAST-MODIFIED:20260129T214401Z
UID:41620-1772283600-1772312400@nevadahealthlink.com
SUMMARY:AAPI Chamber of Commerce Lunar New Year Celebration
DESCRIPTION:Join us as we welcome the Lunar New Year with culture\, community\, and celebration\, now at a new location.\nCome experience vibrant cultural performances\, delicious food vendors\, Anime Night Mart\, Holoholo Market\, K-pop Dance Competition\, Cosplay Competition\, Performative Male Competition\, Kids corner\, local small businesses\, family-friendly activities\, and festive fun for all ages. Let’s ring in the new year together and celebrate prosperity\, unity\, and new beginnings. \nDon’t forget to stop by our Nevada Health Link spot and get more information about health insurance coverage! \n 
URL:https://nevadahealthlink.com/event/aapi-chamber-of-commerce-lunar-new-year-celebration/
LOCATION:Korea Town Plaza\, 6820-6870 Spring Mountain Rd.\, Las Vegas\, NV\, 89146\, United States
END:VEVENT
END:VCALENDAR