BEGIN:VCALENDAR
VERSION:2.0
PRODID:-//Nevada Health Link - Official Website - ECPv6.15.14//NONSGML v1.0//EN
CALSCALE:GREGORIAN
METHOD:PUBLISH
X-ORIGINAL-URL:https://nevadahealthlink.com
X-WR-CALDESC:Events for Nevada Health Link - Official Website
REFRESH-INTERVAL;VALUE=DURATION:PT1H
X-Robots-Tag:noindex
X-PUBLISHED-TTL:PT1H
BEGIN:VTIMEZONE
TZID:America/Los_Angeles
BEGIN:DAYLIGHT
TZOFFSETFROM:-0800
TZOFFSETTO:-0700
TZNAME:PDT
DTSTART:20240310T100000
END:DAYLIGHT
BEGIN:STANDARD
TZOFFSETFROM:-0700
TZOFFSETTO:-0800
TZNAME:PST
DTSTART:20241103T090000
END:STANDARD
BEGIN:DAYLIGHT
TZOFFSETFROM:-0800
TZOFFSETTO:-0700
TZNAME:PDT
DTSTART:20250309T100000
END:DAYLIGHT
BEGIN:STANDARD
TZOFFSETFROM:-0700
TZOFFSETTO:-0800
TZNAME:PST
DTSTART:20251102T090000
END:STANDARD
BEGIN:DAYLIGHT
TZOFFSETFROM:-0800
TZOFFSETTO:-0700
TZNAME:PDT
DTSTART:20260308T100000
END:DAYLIGHT
BEGIN:STANDARD
TZOFFSETFROM:-0700
TZOFFSETTO:-0800
TZNAME:PST
DTSTART:20261101T090000
END:STANDARD
END:VTIMEZONE
BEGIN:VEVENT
DTSTART;TZID=America/Los_Angeles:20251030T170000
DTEND;TZID=America/Los_Angeles:20251030T200000
DTSTAMP:20260420T170052
CREATED:20251029T235658Z
LAST-MODIFIED:20251029T235658Z
UID:40858-1761843600-1761854400@nevadahealthlink.com
SUMMARY:MiraBelli Trunk or Treat
DESCRIPTION:Bring the family in costume for an evening of Halloween fun. Children walking to age 12 will enjoy safe trunk-or-treating\, carnival games\, bounce houses and a movie in the park. Trunk-or-treating will start at 5:30 p.m. in the adjacent Lieburn Active Adult Center parking lot.\n\nDon’t forget to stop by our Nevada Health Link spot and get more information about health insurance coverage!\nOpen enrollment starts November 1st through January 15th!
URL:https://nevadahealthlink.com/event/mirabelli-trunk-or-treat/
LOCATION:Mirabelli Park\, 6200 Hargrove Ave.\, Las Vegas\, NV\, 89107\, United States
END:VEVENT
END:VCALENDAR